BEGIN:VCALENDAR
VERSION:2.0
PRODID:-//Disponibilité créative - Cours Feldenkrais à Paris - ECPv6.15.11//NONSGML v1.0//EN
CALSCALE:GREGORIAN
METHOD:PUBLISH
X-WR-CALNAME:Disponibilité créative - Cours Feldenkrais à Paris
X-ORIGINAL-URL:https://dc.koalad.com
X-WR-CALDESC:Évènements pour Disponibilité créative - Cours Feldenkrais à Paris
REFRESH-INTERVAL;VALUE=DURATION:PT1H
X-Robots-Tag:noindex
X-PUBLISHED-TTL:PT1H
BEGIN:VTIMEZONE
TZID:Europe/Paris
BEGIN:DAYLIGHT
TZOFFSETFROM:+0100
TZOFFSETTO:+0200
TZNAME:CEST
DTSTART:20200329T010000
END:DAYLIGHT
BEGIN:STANDARD
TZOFFSETFROM:+0200
TZOFFSETTO:+0100
TZNAME:CET
DTSTART:20201025T010000
END:STANDARD
BEGIN:DAYLIGHT
TZOFFSETFROM:+0100
TZOFFSETTO:+0200
TZNAME:CEST
DTSTART:20210328T010000
END:DAYLIGHT
BEGIN:STANDARD
TZOFFSETFROM:+0200
TZOFFSETTO:+0100
TZNAME:CET
DTSTART:20211031T010000
END:STANDARD
BEGIN:DAYLIGHT
TZOFFSETFROM:+0100
TZOFFSETTO:+0200
TZNAME:CEST
DTSTART:20220327T010000
END:DAYLIGHT
BEGIN:STANDARD
TZOFFSETFROM:+0200
TZOFFSETTO:+0100
TZNAME:CET
DTSTART:20221030T010000
END:STANDARD
END:VTIMEZONE
BEGIN:VEVENT
DTSTART;TZID=Europe/Paris:20211125T194500
DTEND;TZID=Europe/Paris:20211125T214500
DTSTAMP:20260420T155424
CREATED:20211106T164456Z
LAST-MODIFIED:20211106T164456Z
UID:18752-1637869500-1637876700@dc.koalad.com
SUMMARY:soirée thématique : Relâcher les yeux\, libérer la nuque et le regard
DESCRIPTION:Nous vivons dans un environnement où notre attention visuelle est sollicitée sans cesse\, où tout est fait pour que nos yeux demeurent « rivés » à divers types d’écrans de nombreuses heures par jour. \nPetit à petit\, les habitudes s’installent\, et les muscles autour des yeux se contractent… au risque de figer notre nuque et de raidir toute notre posture. \nCette soirée sera l’occasion de retrouver des fonctions primordiales des yeux :  varier la distance de focalisation\,  percevoir des mouvements autour du champ de vision.\nEt pour cela\, nous apprendrons aussi à   « reposer » les yeux\, par des pratiques simples et relâcher les muscles autour d’eux. Avec un effet étonnant d’apaisement\, et de relâchement du stress.  En plus de goûter une liberté de posture et de la nuque\, nous découvrirons que nous pouvons voir tout autrement autour de nous\,  avec « un oeil neuf »…  \nRappelons en outre que les yeux sont liés au foie selon la médecine chinoise\, et c’est donc une bonne idée de les travailler pour se préparer aux fêtes de fin d’année qui risquent de solliciter pas mal cet organe du foie… \nCes soirées thématiques sont une occasion d’explorer notre fonctionnement dans le mouvement plus en profondeur\, dans un rythme doux\, et de laisser ensuite « dormir » le cerveau\, pour intégrer les expériences qui lui ont été proposées. Elles peuvent venir à la place ou en complément des séances hebdomadaires. \nEt vous pouvez vous inscrire à celle-ci dès à présent… en  nous contactant par mail. \nATTENTION / inscription préalable obligatoire\, et nous travaillons dans un espace où le contrôle du Passe Sanitaire sera demandé. \n  \n 
URL:https://dc.koalad.com/event/soiree-thematique-yeux-regard25nov21/
LOCATION:Espace du Temps Présent\, 30 rue Monsieur le Prince\, Paris\, France
CATEGORIES:soirée thématique
ATTACH;FMTTYPE=image/jpeg:https://dc.koalad.com/wp-content/uploads/2017/11/pexels-photo-e1514469722500.jpg
END:VEVENT
END:VCALENDAR