BEGIN:VCALENDAR
VERSION:2.0
PRODID:-//Disponibilité créative - Cours Feldenkrais à Paris - ECPv6.15.11//NONSGML v1.0//EN
CALSCALE:GREGORIAN
METHOD:PUBLISH
X-WR-CALNAME:Disponibilité créative - Cours Feldenkrais à Paris
X-ORIGINAL-URL:https://dc.koalad.com
X-WR-CALDESC:Évènements pour Disponibilité créative - Cours Feldenkrais à Paris
REFRESH-INTERVAL;VALUE=DURATION:PT1H
X-Robots-Tag:noindex
X-PUBLISHED-TTL:PT1H
BEGIN:VTIMEZONE
TZID:Europe/Paris
BEGIN:DAYLIGHT
TZOFFSETFROM:+0100
TZOFFSETTO:+0200
TZNAME:CEST
DTSTART:20170326T010000
END:DAYLIGHT
BEGIN:STANDARD
TZOFFSETFROM:+0200
TZOFFSETTO:+0100
TZNAME:CET
DTSTART:20171029T010000
END:STANDARD
BEGIN:DAYLIGHT
TZOFFSETFROM:+0100
TZOFFSETTO:+0200
TZNAME:CEST
DTSTART:20180325T010000
END:DAYLIGHT
BEGIN:STANDARD
TZOFFSETFROM:+0200
TZOFFSETTO:+0100
TZNAME:CET
DTSTART:20181028T010000
END:STANDARD
BEGIN:DAYLIGHT
TZOFFSETFROM:+0100
TZOFFSETTO:+0200
TZNAME:CEST
DTSTART:20190331T010000
END:DAYLIGHT
BEGIN:STANDARD
TZOFFSETFROM:+0200
TZOFFSETTO:+0100
TZNAME:CET
DTSTART:20191027T010000
END:STANDARD
END:VTIMEZONE
BEGIN:VEVENT
DTSTART;TZID=Europe/Paris:20180315T193000
DTEND;TZID=Europe/Paris:20180315T213000
DTSTAMP:20260422T202642
CREATED:20180222T113610Z
LAST-MODIFIED:20180222T115827Z
UID:16343-1521142200-1521149400@dc.koalad.com
SUMMARY:soirée thématique : tourner et se retourner
DESCRIPTION:Pouvoir regarder autour de soi est une fonction précieuse\, que ce soit avant de traverser une rue\, ou pour effectuer un créneau par exemple. \nOr beaucoup de personnes diminuent l’amplitude de ces mouvements de torsion par crainte des douleurs au niveau cervical. En fait\, la rotation ne doit pas se limiter aux vertèbres du cou : les vertèbres dorsales sont un relais essentiel dans ces mouvements\, et pour cela\, il faut pouvoir compter sur la mobilité de la cage thoracique\, et la souplesse des muscles du thorax ainsi que des trapèzes. Nous jouerons avec des variations autour des mouvements de rotation et de la fonction de se tourner\, d’abord dans la position allongée\, avant de la transposer dans la verticalité. \nEt nous aurons le plaisir de constater que cette liberté de torsion a aussi pour effet d’allonger la colonne vertébrale et de nous reconnecter à la juste sensation de notre alignement\, depuis le bassin jusqu’au sommet du crâne. \nCes soirées thématiques sont une occasion d’explorer notre fonctionnement dans le mouvement plus en profondeur\, dans un rythme doux\, et de laisser dormir le cerveau\, pour intégrer les expériences qui lui ont été proposées. Elles peuvent venir à la place ou en complément des séances hebdomadaires. \nEt vous pouvez vous inscrire à celle-ci dès à présent… \n 
URL:https://dc.koalad.com/event/soiree-thematique-tourner-se-retourner/
LOCATION:Espace du Temps Présent\, 30 rue Monsieur le Prince\, Paris\, France
CATEGORIES:soirée thématique
ATTACH;FMTTYPE=image/jpeg:https://dc.koalad.com/wp-content/uploads/2018/02/pexels-photo-340981.jpeg
END:VEVENT
END:VCALENDAR