BEGIN:VCALENDAR
VERSION:2.0
PRODID:-//Disponibilité créative - Cours Feldenkrais à Paris - ECPv6.15.11//NONSGML v1.0//EN
CALSCALE:GREGORIAN
METHOD:PUBLISH
X-WR-CALNAME:Disponibilité créative - Cours Feldenkrais à Paris
X-ORIGINAL-URL:https://dc.koalad.com
X-WR-CALDESC:Évènements pour Disponibilité créative - Cours Feldenkrais à Paris
REFRESH-INTERVAL;VALUE=DURATION:PT1H
X-Robots-Tag:noindex
X-PUBLISHED-TTL:PT1H
BEGIN:VTIMEZONE
TZID:Europe/Paris
BEGIN:DAYLIGHT
TZOFFSETFROM:+0100
TZOFFSETTO:+0200
TZNAME:CEST
DTSTART:20230326T010000
END:DAYLIGHT
BEGIN:STANDARD
TZOFFSETFROM:+0200
TZOFFSETTO:+0100
TZNAME:CET
DTSTART:20231029T010000
END:STANDARD
BEGIN:DAYLIGHT
TZOFFSETFROM:+0100
TZOFFSETTO:+0200
TZNAME:CEST
DTSTART:20240331T010000
END:DAYLIGHT
BEGIN:STANDARD
TZOFFSETFROM:+0200
TZOFFSETTO:+0100
TZNAME:CET
DTSTART:20241027T010000
END:STANDARD
BEGIN:DAYLIGHT
TZOFFSETFROM:+0100
TZOFFSETTO:+0200
TZNAME:CEST
DTSTART:20250330T010000
END:DAYLIGHT
BEGIN:STANDARD
TZOFFSETFROM:+0200
TZOFFSETTO:+0100
TZNAME:CET
DTSTART:20251026T010000
END:STANDARD
END:VTIMEZONE
BEGIN:VEVENT
DTSTART;TZID=Europe/Paris:20240118T193000
DTEND;TZID=Europe/Paris:20240118T213000
DTSTAMP:20260420T155431
CREATED:20231227T192758Z
LAST-MODIFIED:20231227T192758Z
UID:19621-1705606200-1705613400@dc.koalad.com
SUMMARY:soirée thématique : tourner et se retourner pour se déployer
DESCRIPTION:Pouvoir regarder de tous les côtés autour de soi est une fonction précieuse\, que ce soit avant de traverser une rue\, ou pour effectuer un créneau par exemple. \nOr beaucoup de personnes diminuent l’amplitude de ces mouvements de torsion par crainte de douleurs au niveau cervical. En fait\, pour être fluide\, la rotation ne doit pas se limiter aux vertèbres du cou :  les vertèbres dorsales sont un relais essentiel dans ces mouvements\, et pour cela\, on a besoin de la mobilité de la cage thoracique\, de la souplesse des muscles du thorax ainsi que des trapèzes. Nous jouerons avec des variations autour des mouvements de rotation et de la fonction de se tourner\, d’abord dans la position allongée. \nCette exploration prend tout son sens neurologique comme « révision » des premiers mouvements d’exploration du tout jeune bébé\, cette étape délicieuse vers la liberté de se déplacer. La réussite de ce mouvement repose sur une bonne utilisation des appuis au sol\, et amène à délier toutes les différentes parties du corps\, pour qu’elles puissent pleinement profiter de ces appuis. \nNous verrons ensuite comment transposer ces mouvements vers la position debout. En sentant les appuis et la solidité sur un axe\, le mouvement de se retourner devient agréable et nous avons une meilleure sensation de notre équilibre\, et une plus grande liberté du regard. \nEt nous aurons le plaisir de constater que cette liberté de torsion a aussi pour effet d’allonger la colonne vertébrale et de nous reconnecter à la juste sensation de notre alignement. \nLes soirées thématiques sont une occasion de plonger profondément pour explorer notre fonctionnement dans le mouvement. Cet horaire en fin de journée permet de laisser au cerveau le temps d’intégrer ses apprentissages\, lors de la nuit qui s’en suit. \nElles se déroulent dans un contexte chaleureux\, en jauge limitée pour favoriser un suivi personnalisé et un partage d’expériences. \nVous pouvez vous inscrire en nous contactant par le formulaire de contact. \n  \n 
URL:https://dc.koalad.com/event/soiree-thematique-tourner-et-se-retourner-janv24/
LOCATION:Espace du Temps Présent\, 30 rue Monsieur le Prince\, Paris\, France
CATEGORIES:soirée thématique
ATTACH;FMTTYPE=image/jpeg:https://dc.koalad.com/wp-content/uploads/2023/12/Tetetourne-e1703705159745.jpg
END:VEVENT
END:VCALENDAR