BEGIN:VCALENDAR
VERSION:2.0
PRODID:-//Disponibilité créative - Cours Feldenkrais à Paris - ECPv6.15.11//NONSGML v1.0//EN
CALSCALE:GREGORIAN
METHOD:PUBLISH
X-WR-CALNAME:Disponibilité créative - Cours Feldenkrais à Paris
X-ORIGINAL-URL:https://dc.koalad.com
X-WR-CALDESC:Évènements pour Disponibilité créative - Cours Feldenkrais à Paris
REFRESH-INTERVAL;VALUE=DURATION:PT1H
X-Robots-Tag:noindex
X-PUBLISHED-TTL:PT1H
BEGIN:VTIMEZONE
TZID:Europe/Paris
BEGIN:DAYLIGHT
TZOFFSETFROM:+0100
TZOFFSETTO:+0200
TZNAME:CEST
DTSTART:20180325T010000
END:DAYLIGHT
BEGIN:STANDARD
TZOFFSETFROM:+0200
TZOFFSETTO:+0100
TZNAME:CET
DTSTART:20181028T010000
END:STANDARD
BEGIN:DAYLIGHT
TZOFFSETFROM:+0100
TZOFFSETTO:+0200
TZNAME:CEST
DTSTART:20190331T010000
END:DAYLIGHT
BEGIN:STANDARD
TZOFFSETFROM:+0200
TZOFFSETTO:+0100
TZNAME:CET
DTSTART:20191027T010000
END:STANDARD
BEGIN:DAYLIGHT
TZOFFSETFROM:+0100
TZOFFSETTO:+0200
TZNAME:CEST
DTSTART:20200329T010000
END:DAYLIGHT
BEGIN:STANDARD
TZOFFSETFROM:+0200
TZOFFSETTO:+0100
TZNAME:CET
DTSTART:20201025T010000
END:STANDARD
END:VTIMEZONE
BEGIN:VEVENT
DTSTART;TZID=Europe/Paris:20190613T193000
DTEND;TZID=Europe/Paris:20190613T213000
DTSTAMP:20260421T065543
CREATED:20190530T101217Z
LAST-MODIFIED:20190530T101217Z
UID:16649-1560454200-1560461400@dc.koalad.com
SUMMARY:Soirée thématique : se tenir DROIT... sans rigiDité
DESCRIPTION:Dès qu’on dit « se tenir droit »\, j’observe souvent que les personnes font un effort immédiat et réflexe pour se redresser\, tenir leurs épaules en rapprochant les omoplates\, monter leur sternum\, éventuellement allonger le cou. Peut-être est-ce d’ailleurs ce que vous êtes en train de faire en lisant ces lignes ?… \n \nInversement\, il arrive souvent qu’à l’issue d’une leçon individuelle de Méthode Feldenkrais\, quand la personne se relève\,  elle se sent « bien\, mais très avachie ». Merci les téléphones portables\, je fais alors une petite photo de profil\, qui permet à la personne de réaliser qu’elle se tient beaucoup plus droite que ce qu’elle croit\, et donc plus droite que ce qu’elle sent. \nParce que la plupart d’entre nous\, nous avons une idée erronée sur ce que veut dire « se tenir droit ». Nous pensons que c’est un effort\, qu’il faut se muscler le dos ou la sangle abdominale. Et je connais bien le problème : j’ai fait durant une grande partie de mon adolescence de nombreuses séances de rééducation pour une scoliose-cyphose\, où l’on voulait m’apprendre à me « tenir droite »!  Un conditionnement qui m’a en fait éloigné de mes sensations et abimé durablement le dos. Le résultat a été que j’ai souffert de maux de nuque  jusqu’à ce que je découvre la Méthode Feldenkrais. \nLa Méthode Feldenkrais m’a ouvert une autre manière d’envisager le fameux « se tenir droit ». Cela m’a tellement soulagée qu’on me dise que quand le squelette est bien organisé\, que le sens kinesthésique fonctionne\, alors la structure tient droite « toute seule »\, il n’y a rien à faire… pour peu qu’on reste connecté à ses sensations. C’est le corps et notre intelligence somatique qui trouvent le moyen de se redresser. On parle de « tenségrité » qui est un terme qui provient de l’architecture : la structure est conçue pour se redresser sans effort particulier.\nSe tenir droit\, c’est en fait la loi du moindre effort\, c’est quand le poids s’appuie sur le squelette dans sa verticalité\, que les muscles travaillent le moins.   \nEt puis se tenir droit n’est surtout pas une posture immobile. Un dos rigide et figé ne peut survivre à tous les événements que nous rencontrons dans notre vie quotidienne. Au contraire\, la Méthode Feldenkrais nous permet d’expérimenter que « se tenir droit » confortablement est le résultat d’ajustements incessants de notre système nerveux pour revenir dans la verticalité. La colonne reste souple\, les vertèbres reliées les unes aux autres\, chaque mouvement se répartit sur l’ensemble du système. L’équilibre est envisagé comme une posture dynamique\, intégrant des modifications des conditions extérieures. \nLors de cette soirée nous explorerons en position allongée la sensation du passage de la force de soutien à travers le squelette. D’autres explorations permettront de découvrir comment se tenir droit\, c’est pouvoir s’incliner à peine dans toutes les directions\, et laisser le corps s’ajuster grâce à une intelligence somatique faite de présence à soi-même. \n  \nCes soirées thématiques sont une occasion d’explorer notre fonctionnement dans le mouvement plus en profondeur\, dans un rythme doux\, et de laisser dormir le cerveau\, pour intégrer les expériences qui lui ont été proposées. Elles peuvent venir à la place ou en complément des séances hebdomadaires. \nEt vous pouvez vous inscrire à celle-ci dès à présent\, en nous contactant par mail… \n 
URL:https://dc.koalad.com/event/soiree-thematique-setenirdroitsansrigidite/
LOCATION:Espace du Temps Présent\, 30 rue Monsieur le Prince\, Paris\, France
CATEGORIES:soirée thématique
ATTACH;FMTTYPE=image/jpeg:https://dc.koalad.com/wp-content/uploads/2019/05/arches-architecture-black-and-white-1469784.jpg
END:VEVENT
END:VCALENDAR