BEGIN:VCALENDAR
VERSION:2.0
PRODID:-//Disponibilité créative - Cours Feldenkrais à Paris - ECPv6.15.11//NONSGML v1.0//EN
CALSCALE:GREGORIAN
METHOD:PUBLISH
X-WR-CALNAME:Disponibilité créative - Cours Feldenkrais à Paris
X-ORIGINAL-URL:https://dc.koalad.com
X-WR-CALDESC:Évènements pour Disponibilité créative - Cours Feldenkrais à Paris
REFRESH-INTERVAL;VALUE=DURATION:PT1H
X-Robots-Tag:noindex
X-PUBLISHED-TTL:PT1H
BEGIN:VTIMEZONE
TZID:Europe/Paris
BEGIN:DAYLIGHT
TZOFFSETFROM:+0100
TZOFFSETTO:+0200
TZNAME:CEST
DTSTART:20180325T010000
END:DAYLIGHT
BEGIN:STANDARD
TZOFFSETFROM:+0200
TZOFFSETTO:+0100
TZNAME:CET
DTSTART:20181028T010000
END:STANDARD
BEGIN:DAYLIGHT
TZOFFSETFROM:+0100
TZOFFSETTO:+0200
TZNAME:CEST
DTSTART:20190331T010000
END:DAYLIGHT
BEGIN:STANDARD
TZOFFSETFROM:+0200
TZOFFSETTO:+0100
TZNAME:CET
DTSTART:20191027T010000
END:STANDARD
BEGIN:DAYLIGHT
TZOFFSETFROM:+0100
TZOFFSETTO:+0200
TZNAME:CEST
DTSTART:20200329T010000
END:DAYLIGHT
BEGIN:STANDARD
TZOFFSETFROM:+0200
TZOFFSETTO:+0100
TZNAME:CET
DTSTART:20201025T010000
END:STANDARD
END:VTIMEZONE
BEGIN:VEVENT
DTSTART;TZID=Europe/Paris:20191010T194500
DTEND;TZID=Europe/Paris:20191010T214500
DTSTAMP:20260421T120831
CREATED:20191005T165915Z
LAST-MODIFIED:20191005T170254Z
UID:17662-1570736700-1570743900@dc.koalad.com
SUMMARY:Soirée thématique : se libérer des prises de tête
DESCRIPTION:Trop souvent\, plongée dans des réflexions et pensées « prises de tête »\, cette tête perd de vue sa fonction première de nous orienter dans l’espace et vers l’action. Nous fonctionnons en figeant les muscles du cou pour « tenir » et porter notre tête\, alors que ces muscles sont conçus pour nous aider à tourner la tête vers les signaux extérieurs. Cela crée à terme torticolis et douleurs d’épaules\, et cela réduit aussi notre champ d’ouverture au monde. Lors de cette soirée\, nous ferons des explorations en position allongée et assise\, pour donner à sentir que la tête est à la fois supportée par l’ensemble de la colonne vertébrale et « suspendue » par l’attention que nous portons à l’espace autour de nous\, notamment par l’intermédiaire de nos télécepteurs comme la vue et l’ouïe. Ce sera l’occasion de goûter le plaisir d’une tête bien reliée au corps\, et qui joue pleinement son rôle dans le mouvement\, et aussi d’expérimenter… une autre manière de penser… par une tête plus déliée  dans le mouvement. J \nCes soirées thématiques sont une occasion d’explorer notre fonctionnement dans le mouvement plus en profondeur\, dans un rythme doux\, et de laisser dormir le cerveau\, pour intégrer les expériences qui lui ont été proposées. Elles peuvent venir à la place ou en complément des séances hebdomadaires. \nEt vous pourrez vous inscrire à celle-ci dès à présent\, par retour de mail… \nattention\, tarif spécial pour les inscrits aux cours hebdomadaires\, me contacter.
URL:https://dc.koalad.com/event/soiree-thematique-selibererlatete-10oct/
LOCATION:Espace du Temps Présent\, 30 rue Monsieur le Prince\, Paris\, France
CATEGORIES:soirée thématique
ATTACH;FMTTYPE=image/jpeg:https://dc.koalad.com/wp-content/uploads/2019/09/animal-animal-photography-cute-1382156.jpg
END:VEVENT
END:VCALENDAR