BEGIN:VCALENDAR
VERSION:2.0
PRODID:-//Disponibilité créative - Cours Feldenkrais à Paris - ECPv6.15.11//NONSGML v1.0//EN
CALSCALE:GREGORIAN
METHOD:PUBLISH
X-WR-CALNAME:Disponibilité créative - Cours Feldenkrais à Paris
X-ORIGINAL-URL:https://dc.koalad.com
X-WR-CALDESC:Évènements pour Disponibilité créative - Cours Feldenkrais à Paris
REFRESH-INTERVAL;VALUE=DURATION:PT1H
X-Robots-Tag:noindex
X-PUBLISHED-TTL:PT1H
BEGIN:VTIMEZONE
TZID:Europe/Paris
BEGIN:DAYLIGHT
TZOFFSETFROM:+0100
TZOFFSETTO:+0200
TZNAME:CEST
DTSTART:20210328T010000
END:DAYLIGHT
BEGIN:STANDARD
TZOFFSETFROM:+0200
TZOFFSETTO:+0100
TZNAME:CET
DTSTART:20211031T010000
END:STANDARD
BEGIN:DAYLIGHT
TZOFFSETFROM:+0100
TZOFFSETTO:+0200
TZNAME:CEST
DTSTART:20220327T010000
END:DAYLIGHT
BEGIN:STANDARD
TZOFFSETFROM:+0200
TZOFFSETTO:+0100
TZNAME:CET
DTSTART:20221030T010000
END:STANDARD
BEGIN:DAYLIGHT
TZOFFSETFROM:+0100
TZOFFSETTO:+0200
TZNAME:CEST
DTSTART:20230326T010000
END:DAYLIGHT
BEGIN:STANDARD
TZOFFSETFROM:+0200
TZOFFSETTO:+0100
TZNAME:CET
DTSTART:20231029T010000
END:STANDARD
END:VTIMEZONE
BEGIN:VEVENT
DTSTART;TZID=Europe/Paris:20220120T194500
DTEND;TZID=Europe/Paris:20220120T214500
DTSTAMP:20260420T131353
CREATED:20211229T164325Z
LAST-MODIFIED:20211229T164325Z
UID:18780-1642707900-1642715100@dc.koalad.com
SUMMARY:Soirée thématique : Puissance du bassin\, tranquillité de l'assise
DESCRIPTION:Le bassin\, c’est d’abord notre assise\, notre solidité\, notre tranquillité.\nSiège de notre centre de gravité\, invitation à nous poser\, nous reposer. \nMais il doit être mobile aussi\, pour s’ajuster à chacune de nos intentions\, ainsi qu’aux moindres variations de l’environnement. Car c’est dans le bassin que s’enracinent les mouvements des jambes\, de la colonne et aussi des bras.  Lors de cette soirée\, nous viendrons sentir cette solidité du bassin\, son volume\, sa structure\, explorer aussi comment ses mouvements peuvent se différencier de ceux de la colonne vertébrale et des jambes\, pour trouver fluidité et aisance. Le bassin retrouve alors sa fonction de centre d’ancrage et de soutien de mobilité. L’énergie peut s’y enraciner et circuler librement dans tout le corps. \nCette soirée peut préparer à la prochaine soirée thématique qui sera consacrée à la position assise. \nCes soirées thématiques sont une occasion d’explorer notre fonctionnement dans le mouvement plus en profondeur\, dans un rythme doux\, et de laisser dormir le cerveau\, pour intégrer les expériences qui lui ont été proposées. Elles peuvent venir à la place ou en complément des séances hebdomadaires. \nEt vous pouvez vous inscrire à celle-ci dès à présent… en nous envoyant un mail directement ou par le formulaire de contact.
URL:https://dc.koalad.com/event/soiree-thematique-puissance-du-bassin-janv22/
LOCATION:Espace du Temps Présent\, 30 rue Monsieur le Prince\, Paris\, France
CATEGORIES:soirée thématique
ATTACH;FMTTYPE=image/jpeg:https://dc.koalad.com/wp-content/uploads/2020/02/bassincroquisBS.jpg
END:VEVENT
END:VCALENDAR