BEGIN:VCALENDAR
VERSION:2.0
PRODID:-//Disponibilité créative - Cours Feldenkrais à Paris - ECPv6.15.11//NONSGML v1.0//EN
CALSCALE:GREGORIAN
METHOD:PUBLISH
X-WR-CALNAME:Disponibilité créative - Cours Feldenkrais à Paris
X-ORIGINAL-URL:https://dc.koalad.com
X-WR-CALDESC:Évènements pour Disponibilité créative - Cours Feldenkrais à Paris
REFRESH-INTERVAL;VALUE=DURATION:PT1H
X-Robots-Tag:noindex
X-PUBLISHED-TTL:PT1H
BEGIN:VTIMEZONE
TZID:Europe/Paris
BEGIN:DAYLIGHT
TZOFFSETFROM:+0100
TZOFFSETTO:+0200
TZNAME:CEST
DTSTART:20220327T010000
END:DAYLIGHT
BEGIN:STANDARD
TZOFFSETFROM:+0200
TZOFFSETTO:+0100
TZNAME:CET
DTSTART:20221030T010000
END:STANDARD
BEGIN:DAYLIGHT
TZOFFSETFROM:+0100
TZOFFSETTO:+0200
TZNAME:CEST
DTSTART:20230326T010000
END:DAYLIGHT
BEGIN:STANDARD
TZOFFSETFROM:+0200
TZOFFSETTO:+0100
TZNAME:CET
DTSTART:20231029T010000
END:STANDARD
BEGIN:DAYLIGHT
TZOFFSETFROM:+0100
TZOFFSETTO:+0200
TZNAME:CEST
DTSTART:20240331T010000
END:DAYLIGHT
BEGIN:STANDARD
TZOFFSETFROM:+0200
TZOFFSETTO:+0100
TZNAME:CET
DTSTART:20241027T010000
END:STANDARD
END:VTIMEZONE
BEGIN:VEVENT
DTSTART;TZID=Europe/Paris:20230126T194500
DTEND;TZID=Europe/Paris:20230126T214500
DTSTAMP:20260421T065636
CREATED:20221211T151825Z
LAST-MODIFIED:20221211T154942Z
UID:19134-1674762300-1674769500@dc.koalad.com
SUMMARY:SOIREE THEMATIQUE:  RE-PARTIR D'UN BON PIED !
DESCRIPTION:Nos pieds sont conçus pour nous porter et nous propulser.\nPour cela ils sont dotés de 26 os\, 31 articulations et 20 muscles… de quoi fournir un vrai travail de précision ! \nMais nous malmenons nos pieds ! Toute la journée\, ils subissent les contraintes du poids\, et passent beaucoup de temps dans des chaussures qui entravent leur mobilité. Certaines articulations finissent par se figer\, entre la cheville et le bout des orteils.  Et cela finit par nuire à notre sens de l’équilibre\, fatigant genoux et hanches qui doivent compenser\, avec des répercussions jusque dans la colonne vertébrale. \nCette soirée est l’occasion de réveiller ces articulations fines du pied et de la cheville. Nous sentirons comment nous pouvons jouer avec nos appuis\, et stimuler leur capacité à s’adapter à des terrains différents. Nous aurons aussi l’occasion de ressentir comment la mobilité du pied peut nous aider à trouver plus d’espace et de confort dans nos genoux\, nos hanches et notre colonne vertébrale.\nUn pied plus solide\, c’est plus de légèreté et de dynamisme dans les jambes et le reste du corps! \nNous recommandons de combiner cette soirée avec la soirée thématique prévue le 9 février\, sur la dynamique de la marche.\n \nCes soirées thématiques sont une occasion d’explorer notre fonctionnement dans le mouvement plus en profondeur\, dans un rythme doux. L’horaire de soirée invite ensuite à laisser dormir le cerveau\, pour intégrer d’autant mieux les expériences qui lui ont été proposées. Elles peuvent venir à la place ou en complément des séances hebdomadaires. \nEt vous pouvez vous inscrire à celle-ci dès à présent…par retour de mail\, ou grâce au formulaire de contact sur le site.
URL:https://dc.koalad.com/event/soiree-thematique-pied-26janv23/
LOCATION:Espace du Temps Présent\, 30 rue Monsieur le Prince\, Paris\, France
CATEGORIES:atelier feldenkrais,feldenkrais et méditation,soirée thématique
ATTACH;FMTTYPE=image/jpeg:https://dc.koalad.com/wp-content/uploads/2022/12/pexels-alicia-zinn-105776.jpg
END:VEVENT
END:VCALENDAR