BEGIN:VCALENDAR
VERSION:2.0
PRODID:-//Disponibilité créative - Cours Feldenkrais à Paris - ECPv6.15.11//NONSGML v1.0//EN
CALSCALE:GREGORIAN
METHOD:PUBLISH
X-WR-CALNAME:Disponibilité créative - Cours Feldenkrais à Paris
X-ORIGINAL-URL:https://dc.koalad.com
X-WR-CALDESC:Évènements pour Disponibilité créative - Cours Feldenkrais à Paris
REFRESH-INTERVAL;VALUE=DURATION:PT1H
X-Robots-Tag:noindex
X-PUBLISHED-TTL:PT1H
BEGIN:VTIMEZONE
TZID:Europe/Paris
BEGIN:DAYLIGHT
TZOFFSETFROM:+0100
TZOFFSETTO:+0200
TZNAME:CEST
DTSTART:20170326T010000
END:DAYLIGHT
BEGIN:STANDARD
TZOFFSETFROM:+0200
TZOFFSETTO:+0100
TZNAME:CET
DTSTART:20171029T010000
END:STANDARD
BEGIN:DAYLIGHT
TZOFFSETFROM:+0100
TZOFFSETTO:+0200
TZNAME:CEST
DTSTART:20180325T010000
END:DAYLIGHT
BEGIN:STANDARD
TZOFFSETFROM:+0200
TZOFFSETTO:+0100
TZNAME:CET
DTSTART:20181028T010000
END:STANDARD
BEGIN:DAYLIGHT
TZOFFSETFROM:+0100
TZOFFSETTO:+0200
TZNAME:CEST
DTSTART:20190331T010000
END:DAYLIGHT
BEGIN:STANDARD
TZOFFSETFROM:+0200
TZOFFSETTO:+0100
TZNAME:CET
DTSTART:20191027T010000
END:STANDARD
END:VTIMEZONE
BEGIN:VEVENT
DTSTART;TZID=Europe/Paris:20180517T193000
DTEND;TZID=Europe/Paris:20180517T213000
DTSTAMP:20260422T202008
CREATED:20180415T144853Z
LAST-MODIFIED:20180601T103158Z
UID:16370-1526585400-1526592600@dc.koalad.com
SUMMARY:Soirée thématique : respirer librement\, nourrir son énergie
DESCRIPTION:  \nLa respiration est le mouvement le plus primitif\, primordial pour notre santé et notre bien-être. Elle détermine nos échanges entre l’intérieur et l’extérieur. Ainsi elle influe sur notre manière de ressentir le monde et conditionne nos actions. \nOr\, il n’y a pas une seule bonne manière de respirer\, mais une multitude de schémas qui peuvent varier en fonction de nos activités. Parfois\, nous nous privons souvent de cette variété\, que ce soit à cause d’idées reçues\, d’émotions qui sont restées engrammées dans le corps\, ou de difficultés posturales. En explorant et en réveillant de nouveaux schémas respiratoires\, nous enrichissons notre rapport au monde\, et nous nourrissons notre énergie. \nCette séance sera l’occasion de ressentir le fonctionnement du diaphragme\, de jouer avec le travail des muscles inspirateurs des côtes pour accompagner l’air qui entre et sort de la cage thoracique. L’air qui circule peut aussi devenir une occasion de travailler sur l’image des volumes internes du corps\, et lâcher des tensions profondes. La respiration est le plus puissant soutien pour s’ouvrir et se déployer\, et renforcer son énergie. \nCes soirées thématiques sont une occasion d’explorer notre fonctionnement dans le mouvement plus en profondeur\, dans un rythme doux\, et de laisser dormir le cerveau\, pour intégrer les expériences qui lui ont été proposées. Elles peuvent venir à la place ou en complément des séances hebdomadaires. \nEt vous pouvez vous inscrire à celle-ci dès à présent… \n 
URL:https://dc.koalad.com/event/soiree-thematique-liberer-la-respiration/
LOCATION:Espace du Temps Présent\, 30 rue Monsieur le Prince\, Paris\, France
CATEGORIES:soirée thématique
ATTACH;FMTTYPE=image/jpeg:https://dc.koalad.com/wp-content/uploads/2018/04/IMG_1364.jpg
END:VEVENT
END:VCALENDAR