BEGIN:VCALENDAR
VERSION:2.0
PRODID:-//Disponibilité créative - Cours Feldenkrais à Paris - ECPv6.15.11//NONSGML v1.0//EN
CALSCALE:GREGORIAN
METHOD:PUBLISH
X-WR-CALNAME:Disponibilité créative - Cours Feldenkrais à Paris
X-ORIGINAL-URL:https://dc.koalad.com
X-WR-CALDESC:Évènements pour Disponibilité créative - Cours Feldenkrais à Paris
REFRESH-INTERVAL;VALUE=DURATION:PT1H
X-Robots-Tag:noindex
X-PUBLISHED-TTL:PT1H
BEGIN:VTIMEZONE
TZID:Europe/Paris
BEGIN:DAYLIGHT
TZOFFSETFROM:+0100
TZOFFSETTO:+0200
TZNAME:CEST
DTSTART:20180325T010000
END:DAYLIGHT
BEGIN:STANDARD
TZOFFSETFROM:+0200
TZOFFSETTO:+0100
TZNAME:CET
DTSTART:20181028T010000
END:STANDARD
BEGIN:DAYLIGHT
TZOFFSETFROM:+0100
TZOFFSETTO:+0200
TZNAME:CEST
DTSTART:20190331T010000
END:DAYLIGHT
BEGIN:STANDARD
TZOFFSETFROM:+0200
TZOFFSETTO:+0100
TZNAME:CET
DTSTART:20191027T010000
END:STANDARD
BEGIN:DAYLIGHT
TZOFFSETFROM:+0100
TZOFFSETTO:+0200
TZNAME:CEST
DTSTART:20200329T010000
END:DAYLIGHT
BEGIN:STANDARD
TZOFFSETFROM:+0200
TZOFFSETTO:+0100
TZNAME:CET
DTSTART:20201025T010000
END:STANDARD
END:VTIMEZONE
BEGIN:VEVENT
DTSTART;TZID=Europe/Paris:20190411T193000
DTEND;TZID=Europe/Paris:20190411T213000
DTSTAMP:20260421T014237
CREATED:20190327T195448Z
LAST-MODIFIED:20190327T195448Z
UID:16615-1555011000-1555018200@dc.koalad.com
SUMMARY:Soirée thématique : respirer pour réveiller son énergie
DESCRIPTION:La respiration est le premier des mouvements\, ce mouvement primordial qui détermine le fait même d’être en vie\, du premier cri que nous poussons\, au dernier souffle que nous rendons. Elle conditionne nos échanges entre l’intérieur et l’extérieur\, ainsi que la circulation interne de notre énergie. Les chinois parlent du « chi ».  La Méthode Feldenkrais nous permet d’appréhender ce mouvement à différents niveaux de conscience. Il est bien sûr question de la quantité d’air qu’on peut inspirer et expirer\, mais surtout d’un mouvement profond de dilatation/rétractation. Trouver l’harmonie de ce mouvement\, inscrit au cœur même de notre fonctionnement cellulaire\, nous permet de relancer notre énergie. \nTrop souvent\, nous avons pris l’habitude de « fixer » une forme respiratoire\, comme la respiration ventrale sensée nous calmer par exemple. Or\, il n’y a pas une seule bonne manière de respirer\, mais une multitude de schémas qui peuvent varier en fonction de nos activités. Parfois\, nous nous privons souvent de cette variété\, que ce soit à cause d’idées reçues\, d’émotions qui sont restées engrammées dans le corps\, ou de difficultés posturales. En explorant et en réveillant de nouveaux schémas respiratoires\, nous retrouvons une nouvelle liberté. \nCette séance sera l’occasion de ressentir le fonctionnement du diaphragme\, de jouer avec le travail des muscles inspirateurs des côtes pour accompagner l’air qui entre et sort de la cage thoracique. L’air qui circule peut aussi devenir une occasion de travailler sur l’image des volumes internes du corps\, et lâcher ainsi des tensions profondes. La respiration est le plus puissant soutien pour nous ouvrir et nous déployer\, et enrichir nos échanges avec le monde. \nCes soirées thématiques sont une occasion d’explorer notre fonctionnement dans le mouvement plus en profondeur\, dans un rythme doux\, et de laisser dormir le cerveau\, pour intégrer les expériences qui lui ont été proposées. Elles peuvent venir à la place ou en complément des séances hebdomadaires. \nEt vous pouvez vous inscrire à celle-ci dès à présent… \n 
URL:https://dc.koalad.com/event/soiree-thematique-liberer-la-respiration-2/
LOCATION:Espace du Temps Présent\, 30 rue Monsieur le Prince\, Paris\, France
CATEGORIES:soirée thématique
ATTACH;FMTTYPE=image/jpeg:https://dc.koalad.com/wp-content/uploads/2019/03/aquatic-bloom-blooming-158465.jpg
END:VEVENT
END:VCALENDAR