BEGIN:VCALENDAR
VERSION:2.0
PRODID:-//Disponibilité créative - Cours Feldenkrais à Paris - ECPv6.15.11//NONSGML v1.0//EN
CALSCALE:GREGORIAN
METHOD:PUBLISH
X-WR-CALNAME:Disponibilité créative - Cours Feldenkrais à Paris
X-ORIGINAL-URL:https://dc.koalad.com
X-WR-CALDESC:Évènements pour Disponibilité créative - Cours Feldenkrais à Paris
REFRESH-INTERVAL;VALUE=DURATION:PT1H
X-Robots-Tag:noindex
X-PUBLISHED-TTL:PT1H
BEGIN:VTIMEZONE
TZID:Europe/Paris
BEGIN:DAYLIGHT
TZOFFSETFROM:+0100
TZOFFSETTO:+0200
TZNAME:CEST
DTSTART:20220327T010000
END:DAYLIGHT
BEGIN:STANDARD
TZOFFSETFROM:+0200
TZOFFSETTO:+0100
TZNAME:CET
DTSTART:20221030T010000
END:STANDARD
BEGIN:DAYLIGHT
TZOFFSETFROM:+0100
TZOFFSETTO:+0200
TZNAME:CEST
DTSTART:20230326T010000
END:DAYLIGHT
BEGIN:STANDARD
TZOFFSETFROM:+0200
TZOFFSETTO:+0100
TZNAME:CET
DTSTART:20231029T010000
END:STANDARD
BEGIN:DAYLIGHT
TZOFFSETFROM:+0100
TZOFFSETTO:+0200
TZNAME:CEST
DTSTART:20240331T010000
END:DAYLIGHT
BEGIN:STANDARD
TZOFFSETFROM:+0200
TZOFFSETTO:+0100
TZNAME:CET
DTSTART:20241027T010000
END:STANDARD
END:VTIMEZONE
BEGIN:VEVENT
DTSTART;TZID=Europe/Paris:20231005T194500
DTEND;TZID=Europe/Paris:20231005T214500
DTSTAMP:20260421T120820
CREATED:20230830T111700Z
LAST-MODIFIED:20230830T111700Z
UID:19449-1696535100-1696542300@dc.koalad.com
SUMMARY:SOIREE THEMATIQUE: FONDAMENTAUX DE LA METHODE FELDENKRAIS\, UNE RESPIRATION LIBRE DANS LE MOUVEMENT
DESCRIPTION:Pour préserver notre énergie et notre santé\, la qualité de la respiration est dans doute un des éléments les plus essentiels. Les médecines traditionnelles nous l’enseignent. Qu’il s’agisse du « Prana » en Inde ou du « Chi » des Chinois\, c’est le même mot pour souffle et énergie… \nPourtant combien de personnes « oublient de respirer » quand elles sont trop concentrées\, ou bloquent leur respiration quand elles veulent mobiliser toute leurs forces ?!… Ce qui à terme peut favoriser des tensions et occasionner des douleurs. \nMais il est possible de faire autrement… \nLors de cette soirée\, vous aurez l’occasion de réviser quelques fondamentaux sur le fonctionnement de la respiration. Nous nous attacherons à sentir le rôle du diaphragme\, le mouvement des côtes\, l’engagement de l’abdomen. Vous découvrirez à travers des pratiques guidées comment favoriser une respiration libre\, fluide\, qui s’ajuste à chaque instant à vos besoins. \nPuis vous aurez l’occasion de vous entraîner à maintenir cette qualité de respiration même quand vous êtes « occupé »\, que ce soit parce que votre attention est sollicitée\, ou parce que vous avez besoin de mobiliser votre force. \nPour cela vous serez invité-e à plonger dans quelques séquences classiques de la Méthode Feldenkrais\, qui peuvent demander une certaine concentration\, ou un engagement physique… Avec pour principal défi de… continuer à respirer…\nVous jouerez avec des variations dans la manière de coordonner mouvements et respiration… \nEt vous aurez le plaisir de constater que vos mouvements deviennent plus fluides\, plus faciles\, plus puissants. Une respiration libre procure aussi une profonde sensation d’apaisement… \nCes soirées thématiques sont une occasion d’explorer notre fonctionnement dans le mouvement en profondeur\, dans un rythme doux. Avec la possibilité ensuite de prendre une nuit de repos pour laisser le cerveau intégrer les expériences proposées. Ces soirées peuvent venir à la place ou en complément des séances hebdomadaires. \nEt vous pouvez vous inscrire à celle-ci dès à présent\, par l’intermédiaire du formulaire de contact.
URL:https://dc.koalad.com/event/soiree-thematique-fondamentaux-de-la-methode-feldenkrais-une-respiration-libre-dans-le-mouvement/
LOCATION:Espace du Temps Présent\, 30 rue Monsieur le Prince\, Paris\, France
CATEGORIES:atelier feldenkrais,feldenkrais et méditation,soirée thématique
ATTACH;FMTTYPE=image/jpeg:https://dc.koalad.com/wp-content/uploads/2019/03/aquatic-bloom-blooming-158465.jpg
END:VEVENT
END:VCALENDAR