BEGIN:VCALENDAR
VERSION:2.0
PRODID:-//Disponibilité créative - Cours Feldenkrais à Paris - ECPv6.15.11//NONSGML v1.0//EN
CALSCALE:GREGORIAN
METHOD:PUBLISH
X-WR-CALNAME:Disponibilité créative - Cours Feldenkrais à Paris
X-ORIGINAL-URL:https://dc.koalad.com
X-WR-CALDESC:Évènements pour Disponibilité créative - Cours Feldenkrais à Paris
REFRESH-INTERVAL;VALUE=DURATION:PT1H
X-Robots-Tag:noindex
X-PUBLISHED-TTL:PT1H
BEGIN:VTIMEZONE
TZID:Europe/Paris
BEGIN:DAYLIGHT
TZOFFSETFROM:+0100
TZOFFSETTO:+0200
TZNAME:CEST
DTSTART:20200329T010000
END:DAYLIGHT
BEGIN:STANDARD
TZOFFSETFROM:+0200
TZOFFSETTO:+0100
TZNAME:CET
DTSTART:20201025T010000
END:STANDARD
BEGIN:DAYLIGHT
TZOFFSETFROM:+0100
TZOFFSETTO:+0200
TZNAME:CEST
DTSTART:20210328T010000
END:DAYLIGHT
BEGIN:STANDARD
TZOFFSETFROM:+0200
TZOFFSETTO:+0100
TZNAME:CET
DTSTART:20211031T010000
END:STANDARD
BEGIN:DAYLIGHT
TZOFFSETFROM:+0100
TZOFFSETTO:+0200
TZNAME:CEST
DTSTART:20220327T010000
END:DAYLIGHT
BEGIN:STANDARD
TZOFFSETFROM:+0200
TZOFFSETTO:+0100
TZNAME:CET
DTSTART:20221030T010000
END:STANDARD
END:VTIMEZONE
BEGIN:VEVENT
DTSTART;TZID=Europe/Paris:20211209T194500
DTEND;TZID=Europe/Paris:20211209T214500
DTSTAMP:20260422T134601
CREATED:20211106T182550Z
LAST-MODIFIED:20211106T182550Z
UID:18757-1639079100-1639086300@dc.koalad.com
SUMMARY:soirée thématique : la cage thoracique\, berceau de vitalité
DESCRIPTION:Pour beaucoup d’entre nous\, nous avons appris à bien nous tenir droit en bombant le thorax et en resserrant nos épaules\, comme pour montrer la meilleure part de nous\, plastronner\, une manière aussi de « faire face » aux événements qui peuvent se présenter. Sauf que cela crée une rigidité : la cage thoracique devient une prison\, pour notre souffle\, pour nos émotions\, et pour notre nuque et nos bras\, avec des épaules qui deviennent douloureuses. \nAlors que les côtes sont des os relativement « souples »\, et que la manière dont elles s’articulent sur la colonne vertébrale et le sternum permet au contraire toutes sortes de mouvements\, pour nous adapter à ce qui se présente\, bien plus efficacement qu’en restant rigides. \nLors de cette soirée\, nous serons amenés à ressentir la cage thoracique comme un volume mobile dans les trois plans de l’espace. Nous jouerons avec les mouvements du sternum par rapport à la colonne vertébrale\, les mouvements des côtes les unes par rapport aux autres.  En libérant ainsi les côtes\, nous retrouvons du mouvement dans la nuque\, les épaules\, nous déployons notre souffle et notre joie de vivre : la cage thoracique devient alors un berceau de vitalité. Et en stimulant ces mobilités\, nous réveillons aussi notre créativité. \nCes soirées thématiques sont une occasion d’explorer notre fonctionnement dans le mouvement plus en profondeur\, dans un rythme doux\, et de laisser ensuite « dormir » le cerveau\, pour intégrer les expériences qui lui ont été proposées. Elles peuvent venir à la place ou en complément des séances hebdomadaires. \nEt vous pouvez vous inscrire à celle-ci dès à présent… en  nous contactant par mail. \nATTENTION / inscription préalable obligatoire\, et nous travaillons dans un espace où le contrôle du Passe Sanitaire sera demandé. \n  \n 
URL:https://dc.koalad.com/event/soiree-thematique-cage-thoracique9dec21/
LOCATION:Espace du Temps Présent\, 30 rue Monsieur le Prince\, Paris\, France
CATEGORIES:soirée thématique
ATTACH;FMTTYPE=image/jpeg:https://dc.koalad.com/wp-content/uploads/2021/11/pexels-olga-1146242-e1636219813690.jpg
END:VEVENT
END:VCALENDAR