BEGIN:VCALENDAR
VERSION:2.0
PRODID:-//Disponibilité créative - Cours Feldenkrais à Paris - ECPv6.15.11//NONSGML v1.0//EN
CALSCALE:GREGORIAN
METHOD:PUBLISH
X-WR-CALNAME:Disponibilité créative - Cours Feldenkrais à Paris
X-ORIGINAL-URL:https://dc.koalad.com
X-WR-CALDESC:Évènements pour Disponibilité créative - Cours Feldenkrais à Paris
REFRESH-INTERVAL;VALUE=DURATION:PT1H
X-Robots-Tag:noindex
X-PUBLISHED-TTL:PT1H
BEGIN:VTIMEZONE
TZID:Europe/Paris
BEGIN:DAYLIGHT
TZOFFSETFROM:+0100
TZOFFSETTO:+0200
TZNAME:CEST
DTSTART:20170326T010000
END:DAYLIGHT
BEGIN:STANDARD
TZOFFSETFROM:+0200
TZOFFSETTO:+0100
TZNAME:CET
DTSTART:20171029T010000
END:STANDARD
BEGIN:DAYLIGHT
TZOFFSETFROM:+0100
TZOFFSETTO:+0200
TZNAME:CEST
DTSTART:20180325T010000
END:DAYLIGHT
BEGIN:STANDARD
TZOFFSETFROM:+0200
TZOFFSETTO:+0100
TZNAME:CET
DTSTART:20181028T010000
END:STANDARD
BEGIN:DAYLIGHT
TZOFFSETFROM:+0100
TZOFFSETTO:+0200
TZNAME:CEST
DTSTART:20190331T010000
END:DAYLIGHT
BEGIN:STANDARD
TZOFFSETFROM:+0200
TZOFFSETTO:+0100
TZNAME:CET
DTSTART:20191027T010000
END:STANDARD
END:VTIMEZONE
BEGIN:VEVENT
DTSTART;TZID=Europe/Paris:20180208T193000
DTEND;TZID=Europe/Paris:20180208T213000
DTSTAMP:20260422T205122
CREATED:20180123T130038Z
LAST-MODIFIED:20180123T131103Z
UID:16328-1518118200-1518125400@dc.koalad.com
SUMMARY:soirée thématique : Allonger les ischio jambiers
DESCRIPTION:On entend souvent cette phrase : j’ai les ischio-jambiers trop courts ! Ce qui expliquerait des lombalgies\, ou des limites dans la pratique d’un sport.\nJe ne suis pas souple !… Dur dur\, de toucher ses pieds avec ses mains\,  jambes allongées… Mais…\nne le faites pas avant qu’on en parle ensemble\, car les étirements répétés n’améliorent pas la chose\, voire même peuvent occasionner des lésions musculaires  irréversibles… \nLors de cette séance\, nous explorerons l’allongement des ischio-jambiers dans un mouvement qui intègre l’ensemble du corps. Il s’agit de donner au système nerveux des raisons de «lâcher» ces fameux ischio-jambiers et de les laisser s’allonger: c’est possible en prenant en compte  la physiologie du bassin\, en utilisant les mobilités des différentes articulations de la jambe\, ainsi que la souplesse de la colonne vertébrale et de la cage thoracique. Le développement de la perception et « l’intelligence du mouvement » prennent alors la place de l’effort… et les ischio-jambiers retrouvent naturellement de leur longueur. \nEt de sentir cela dans cette partie du corps donne aussi à notre système nerveux l’idée « d’assouplir » son comportement partout ailleurs… \nCes soirées thématiques sont une occasion d’explorer notre fonctionnement dans le mouvement plus en profondeur\, dans un rythme doux\, et de laisser dormir le cerveau\, pour intégrer les expériences qui lui ont été proposées. Elles peuvent venir à la place ou en complément des séances hebdomadaires. \nEt vous pouvez vous inscrire à celle-ci dès à présent… \n 
URL:https://dc.koalad.com/event/soiree-thematique-assouplir-ischio-jambiers/
LOCATION:Espace du Temps Présent\, 30 rue Monsieur le Prince\, Paris\, France
CATEGORIES:soirée thématique
ATTACH;FMTTYPE=image/jpeg:https://dc.koalad.com/wp-content/uploads/2018/01/jambes-paysage.jpeg
END:VEVENT
END:VCALENDAR