BEGIN:VCALENDAR
VERSION:2.0
PRODID:-//Disponibilité créative - Cours Feldenkrais à Paris - ECPv6.15.11//NONSGML v1.0//EN
CALSCALE:GREGORIAN
METHOD:PUBLISH
X-WR-CALNAME:Disponibilité créative - Cours Feldenkrais à Paris
X-ORIGINAL-URL:https://dc.koalad.com
X-WR-CALDESC:Évènements pour Disponibilité créative - Cours Feldenkrais à Paris
REFRESH-INTERVAL;VALUE=DURATION:PT1H
X-Robots-Tag:noindex
X-PUBLISHED-TTL:PT1H
BEGIN:VTIMEZONE
TZID:Europe/Paris
BEGIN:DAYLIGHT
TZOFFSETFROM:+0100
TZOFFSETTO:+0200
TZNAME:CEST
DTSTART:20170326T010000
END:DAYLIGHT
BEGIN:STANDARD
TZOFFSETFROM:+0200
TZOFFSETTO:+0100
TZNAME:CET
DTSTART:20171029T010000
END:STANDARD
BEGIN:DAYLIGHT
TZOFFSETFROM:+0100
TZOFFSETTO:+0200
TZNAME:CEST
DTSTART:20180325T010000
END:DAYLIGHT
BEGIN:STANDARD
TZOFFSETFROM:+0200
TZOFFSETTO:+0100
TZNAME:CET
DTSTART:20181028T010000
END:STANDARD
BEGIN:DAYLIGHT
TZOFFSETFROM:+0100
TZOFFSETTO:+0200
TZNAME:CEST
DTSTART:20190331T010000
END:DAYLIGHT
BEGIN:STANDARD
TZOFFSETFROM:+0200
TZOFFSETTO:+0100
TZNAME:CET
DTSTART:20191027T010000
END:STANDARD
END:VTIMEZONE
BEGIN:VEVENT
DTSTART;TZID=Europe/Paris:20180614T193000
DTEND;TZID=Europe/Paris:20180614T213000
DTSTAMP:20260422T202043
CREATED:20180524T092117Z
LAST-MODIFIED:20180601T103150Z
UID:16379-1529004600-1529011800@dc.koalad.com
SUMMARY:Soirée thématique : apprivoiser la verticalité
DESCRIPTION:  \nPour beaucoup d’entre nous\, la station prolongée « debout »  est un véritable challenge\, pour le dos\, les jambes\, la nuque\, les épaules. Mais la plupart du temps nous faisons beaucoup trop d’efforts pour nous « tenir »\, alors qu’il suffirait mieux utiliser notre structure squelettique\, et de nous appuyer sur sa solidité\, tout en restant souples et disponibles aux ajustements. \nLors de cet atelier\, des explorations sur les appuis\, avec de nombreux moments allongés\, nous permettront de sentir le soutien des pieds\, d’interroger la question de l’alignement jusqu’au sommet du crâne\, et d’aller vers une position debout plus confortable\, où le bassin vient se « poser » tout simplement  sur les jambes \, et la tête dans le prolongement de la colonne\, avec un travail minimum des muscles. Et dans cette position\, la colonne vertébrale reste souple et alerte et la position debout retrouve toute sa légèreté. \nCes soirées thématiques sont une occasion d’explorer notre fonctionnement dans le mouvement plus en profondeur\, dans un rythme doux\, et de laisser dormir le cerveau\, pour intégrer les expériences qui lui ont été proposées. Elles peuvent venir à la place ou en complément des séances hebdomadaires. \nEt vous pouvez vous inscrire à celle-ci dès à présent… \n 
URL:https://dc.koalad.com/event/soiree-thematique-apprivoiser-la-verticalite/
LOCATION:Espace du Temps Présent\, 30 rue Monsieur le Prince\, Paris\, France
CATEGORIES:soirée thématique
ATTACH;FMTTYPE=image/jpeg:https://dc.koalad.com/wp-content/uploads/2018/05/pexels-photo-235990.jpeg
END:VEVENT
END:VCALENDAR