BEGIN:VCALENDAR
VERSION:2.0
PRODID:-//Disponibilité créative - Cours Feldenkrais à Paris - ECPv6.15.11//NONSGML v1.0//EN
CALSCALE:GREGORIAN
METHOD:PUBLISH
X-WR-CALNAME:Disponibilité créative - Cours Feldenkrais à Paris
X-ORIGINAL-URL:https://dc.koalad.com
X-WR-CALDESC:Évènements pour Disponibilité créative - Cours Feldenkrais à Paris
REFRESH-INTERVAL;VALUE=DURATION:PT1H
X-Robots-Tag:noindex
X-PUBLISHED-TTL:PT1H
BEGIN:VTIMEZONE
TZID:Europe/Paris
BEGIN:DAYLIGHT
TZOFFSETFROM:+0100
TZOFFSETTO:+0200
TZNAME:CEST
DTSTART:20190331T010000
END:DAYLIGHT
BEGIN:STANDARD
TZOFFSETFROM:+0200
TZOFFSETTO:+0100
TZNAME:CET
DTSTART:20191027T010000
END:STANDARD
BEGIN:DAYLIGHT
TZOFFSETFROM:+0100
TZOFFSETTO:+0200
TZNAME:CEST
DTSTART:20200329T010000
END:DAYLIGHT
BEGIN:STANDARD
TZOFFSETFROM:+0200
TZOFFSETTO:+0100
TZNAME:CET
DTSTART:20201025T010000
END:STANDARD
BEGIN:DAYLIGHT
TZOFFSETFROM:+0100
TZOFFSETTO:+0200
TZNAME:CEST
DTSTART:20210328T010000
END:DAYLIGHT
BEGIN:STANDARD
TZOFFSETFROM:+0200
TZOFFSETTO:+0100
TZNAME:CET
DTSTART:20211031T010000
END:STANDARD
END:VTIMEZONE
BEGIN:VEVENT
DTSTART;TZID=Europe/Paris:20200416T183000
DTEND;TZID=Europe/Paris:20200416T193000
DTSTAMP:20260422T110116
CREATED:20200412T171542Z
LAST-MODIFIED:20200413T092004Z
UID:18035-1587061800-1587065400@dc.koalad.com
SUMMARY:SEANCE SPECIALE CONFINEMENT : REPOSER SES YEUX DU TOUT A L'ECRAN
DESCRIPTION:En cette période si particulière du confinement\, nous passons bien trop de temps devant nos écrans\, ce qui occasionne des fatigues oculaires et des tensions dans la nuque et les épaules. \nNotre regard a besoin de voir au loin\, comme nous même avons besoin de sentir qu’il y a de l’espace et des perspectives! \nDes exercices simples de la Méthode Feldenkrais peuvent nous aider à relâcher les tensions dans notre visage et dans notre nuque\, et à stimuler notre acuité visuelle. Ces exercices peuvent aussi aider à améliorer notre sensation d’équilibre et de bien être. \n  \nPour vous inscrire à cette séance Spéciale REPOSER NOS YEUX Jeudi 16 avril à 18h30 vous pouvez cliquer ICI \nConcernant le paiement de cette séance spéciale : \nJe maintiens ma proposition que le paiement d’une séance\, à Tarif Plein\, 20€ ou Tarif Réduit 12€\, ainsi que la souscription de l’abonnement\, vous ouvre l’accès à deux séances au choix dans la semaine\, parmi les séances de Feldenkrais ou de Méditation Centrage. \nCertains d’entre vous ne viennent qu’à une séance Feldenkrais\, cette séance supplémentaire « spéciale REPOS DES YEUX » peut alors faire partie de votre quota de séances dans la semaine. \nPour les autres\, ou ceux qui souhaitent venir uniquement à cette séance\,  je vous invite à contribuer du montant de votre choix et selon vos moyens : soit à l’un des tarifs de séance\, grâce aux boutons en bas de page\, soit 20€ tarif normal\, ou 12 € tarif réduit soit d’un montant libre par virement. Vous trouverez tous les « boutons » et informations nécessaires en bas de la page dédiée. Le cas échéant\, je peux vous générer une facture Paypal si le virement s’avère une opération trop compliquée. Pour cela contactez-moi. \n 
URL:https://dc.koalad.com/event/seance-speciale-confinement-reposer-ses-yeux-du-tout-a-lecran/
CATEGORIES:atelier feldenkrais
ATTACH;FMTTYPE=image/jpeg:https://dc.koalad.com/wp-content/uploads/2020/04/pier-569314_960_720.jpg
END:VEVENT
END:VCALENDAR