BEGIN:VCALENDAR
VERSION:2.0
PRODID:-//Disponibilité créative - Cours Feldenkrais à Paris - ECPv6.15.11//NONSGML v1.0//EN
CALSCALE:GREGORIAN
METHOD:PUBLISH
X-WR-CALNAME:Disponibilité créative - Cours Feldenkrais à Paris
X-ORIGINAL-URL:https://dc.koalad.com
X-WR-CALDESC:Évènements pour Disponibilité créative - Cours Feldenkrais à Paris
REFRESH-INTERVAL;VALUE=DURATION:PT1H
X-Robots-Tag:noindex
X-PUBLISHED-TTL:PT1H
BEGIN:VTIMEZONE
TZID:Europe/Paris
BEGIN:DAYLIGHT
TZOFFSETFROM:+0100
TZOFFSETTO:+0200
TZNAME:CEST
DTSTART:20230326T010000
END:DAYLIGHT
BEGIN:STANDARD
TZOFFSETFROM:+0200
TZOFFSETTO:+0100
TZNAME:CET
DTSTART:20231029T010000
END:STANDARD
BEGIN:DAYLIGHT
TZOFFSETFROM:+0100
TZOFFSETTO:+0200
TZNAME:CEST
DTSTART:20240331T010000
END:DAYLIGHT
BEGIN:STANDARD
TZOFFSETFROM:+0200
TZOFFSETTO:+0100
TZNAME:CET
DTSTART:20241027T010000
END:STANDARD
BEGIN:DAYLIGHT
TZOFFSETFROM:+0100
TZOFFSETTO:+0200
TZNAME:CEST
DTSTART:20250330T010000
END:DAYLIGHT
BEGIN:STANDARD
TZOFFSETFROM:+0200
TZOFFSETTO:+0100
TZNAME:CET
DTSTART:20251026T010000
END:STANDARD
END:VTIMEZONE
BEGIN:VEVENT
DTSTART;TZID=Europe/Paris:20240916T093000
DTEND;TZID=Europe/Paris:20241219T093000
DTSTAMP:20260421T065958
CREATED:20240812T123745Z
LAST-MODIFIED:20241020T102905Z
UID:19860-1726479000-1734600600@dc.koalad.com
SUMMARY:RENTREE 24-25 : COURS FELDENKRAIS COLLECTIFS HEBDOMADAIRES
DESCRIPTION:Vous avez besoin de gérer des douleurs aigües ou chroniques?\nVous souhaitez vous améliorer dans une pratique corporelle qui vous tient à cœur\, que ce soit du sport\, de la musique\, de la danse?\nVous souhaitez développer et stimuler votre plasticité cérébrale?\nAlors une pratique Feldenkrais hebdomadaire est une très bonne idée. \nEn apprenant à venir à l’écoute de votre corps\,\nVous découvrirez d’autres manières de bouger\,\nPlus faciles\, plus efficaces.\nEn vous écoutant\, en douceur\nPour aller plus loin.\nEn prenant soin de vous\, \nVous développerez un ancrage qui favorise la solidité\nEn vous réconciliant avec votre corps\nCe qui favorisera aussi une meilleure gestion du stress\nEt plus de tranquillité. \nVous vous occuperez de votre corps\,\nTout en stimulant vos facultés cérébrales\,\nEt en partageant du collectif. \nLes cours collectifs hebdomadaires de Méthode Feldenkrais reprennent à partir du lundi 16 septembre 24. \nVoici les horaires proposés en salle à Paris\, animés par Blandine Stintzy  : \nEspace du Temps Présent rue Monsieur le Prince\nLundi 9h30-10h30\nLundi 11h-12h\nMardi 19h-20h\nJeudi 13h-14h \nDojo Ten Shin Kai\, rue Quincampoix\nLundi 13h-14h \net aussi \nCours hebdomadaire en ligne par zoom\nle jeudi de 8h30 à 9h30 \nVous pouvez vous inscrire ou demander des informations complémentaires dès maintenant en nous contactant par le formulaire de contact\, ou par téléphone.\nLes places en salle sont réservées en priorité aux personnes qui s’engagent pour l’année.\nTarif annuel (comprenant 31 séances) : 450 euros répartis en 20€ d’inscription\, puis 160 € pour le premier trimestre\, 160€ pour le second\, et 110€  pour le troisième.\nTarif à la leçon : 22 euros \nTarif spécial pour combiner séance en salle et séance par zoom : nous contacter. \nPossibilité de faire une leçon d’essai\, et le prix acquitté sera déduit ensuite en cas d’engagement annuel \nVous pouvez aussi préférer commencer par une séance individuelle de Méthode Feldenkrais\, selon votre problématique et vos attentes. Dans ce cas\, vous serez invité à une leçon d’essai hebdomadaire. Pour prendre rendez-vous vous pouvez me contacter directement\, ou cliquer sur le bouton de prise de rendez-vous. \nPour être tenu au courant des ateliers mensuels proposés\, soit en Méthode Feldenkrais\, soit en Méditation-Centrage\, vous pouvez vous inscrire à la Newsletter. (formulaire en bas de la page) \nEt si vous souhaitez me rencontrer\, je serai présente au Forum des Associations du 6ème arrondissement\, le samedi 7 septembre\, de 10h à 17h\, Mairie du 6ème arrondissement.\nEt nouveauté pour cette année : Je proposerai une démonstration-cours-d’essai sur la place de la mairie à 11h : quelques explorations en position assise si nous avons bien des chaises\, qui vous permettront de découvrir le cheminement de questionnements sur les sensations qui permet de faire évoluer l’usage de soi.
URL:https://dc.koalad.com/event/rentree-24-25-cours-feldenkrais-collectifs-hebdomadaires-2/
ATTACH;FMTTYPE=image/jpeg:https://dc.koalad.com/wp-content/uploads/2017/01/feldenkrais-paris1.jpg
END:VEVENT
END:VCALENDAR