BEGIN:VCALENDAR
VERSION:2.0
PRODID:-//Disponibilité créative - Cours Feldenkrais à Paris - ECPv6.15.11//NONSGML v1.0//EN
CALSCALE:GREGORIAN
METHOD:PUBLISH
X-WR-CALNAME:Disponibilité créative - Cours Feldenkrais à Paris
X-ORIGINAL-URL:https://dc.koalad.com
X-WR-CALDESC:Évènements pour Disponibilité créative - Cours Feldenkrais à Paris
REFRESH-INTERVAL;VALUE=DURATION:PT1H
X-Robots-Tag:noindex
X-PUBLISHED-TTL:PT1H
BEGIN:VTIMEZONE
TZID:Europe/Paris
BEGIN:DAYLIGHT
TZOFFSETFROM:+0100
TZOFFSETTO:+0200
TZNAME:CEST
DTSTART:20210328T010000
END:DAYLIGHT
BEGIN:STANDARD
TZOFFSETFROM:+0200
TZOFFSETTO:+0100
TZNAME:CET
DTSTART:20211031T010000
END:STANDARD
BEGIN:DAYLIGHT
TZOFFSETFROM:+0100
TZOFFSETTO:+0200
TZNAME:CEST
DTSTART:20220327T010000
END:DAYLIGHT
BEGIN:STANDARD
TZOFFSETFROM:+0200
TZOFFSETTO:+0100
TZNAME:CET
DTSTART:20221030T010000
END:STANDARD
BEGIN:DAYLIGHT
TZOFFSETFROM:+0100
TZOFFSETTO:+0200
TZNAME:CEST
DTSTART:20230326T010000
END:DAYLIGHT
BEGIN:STANDARD
TZOFFSETFROM:+0200
TZOFFSETTO:+0100
TZNAME:CET
DTSTART:20231029T010000
END:STANDARD
END:VTIMEZONE
BEGIN:VEVENT
DTSTART;TZID=Europe/Paris:20220912T093000
DTEND;TZID=Europe/Paris:20221003T140000
DTSTAMP:20260422T135724
CREATED:20220822T170450Z
LAST-MODIFIED:20220908T105410Z
UID:19046-1662975000-1664805600@dc.koalad.com
SUMMARY:RENTREE 22-23 : COURS FELDENKRAIS COLLECTIFS HEBDOMADAIRES
DESCRIPTION:Au milieu des tempêtes que traverse notre monde\,\nIl me semble d’autant plus important de pouvoir interroger ses repères\,\nretrouver des appuis\,\npartager du collectif… \nLes cours collectifs hebdomadaires de Méthode Feldenkrais reprennent à partir du lundi 12 septembre 2022. \nVoici les horaires proposés en salle à Paris\, animés par Blandine Stintzy  : \nEspace du Temps Présent rue Monsieur le Prince\nLundi 9h30-10h30\nLundi 11h-12h\nMardi 19h-20h\nJeudi 13h-14h \nDojo Ten Shin Kai\, rue Quincampoix\nLundi 13h-14h. \nVous pouvez vous inscrire dès maintenant en nous contactant.\nLes places sont réservées en priorité aux personnes qui s’engagent pour l’année.\nTarif annuel : 450 euros\, répartis en 160 pour le 1er et deuxième trimestre\, et 130 pour le troisième.\nTarif à la leçon : 22 euros\nPossibilité de faire une leçon d’essai\, et le prix acquitté sera déduit ensuite en cas d’engagement trimestriel \nPour une séance individuelle de Méthode Feldenkrais ou d’Hypnose Générative\, vous pouvez nous contacter directement\, ou cliquer sur le bouton de prise de rendez-vous. \nPour être tenu au courant des ateliers mensuels proposés\, soit en Méthode Feldenkrais\, soit en Méditation-Centrage\, vous pouvez vous inscrire à la Newsletter. (formulaire en bas de la page) \nPour cette année\, les dates et les thèmes des Soirées Thématiques du jeudi 19h45 à l’Espace du Temps Présent ont déjà été précisés\, et vous pouvez vous inscrire dès à présent\, pour une ou plusieurs séances en nous contactant par mail. \n13 octobre 22 : Revisiter la Colonne Vertébrale par les « basiques » de la Méthode Feldenkrais\n17 novembre 22 : Position assise : de bons appuis et une colonne souple et mobile.\n8 décembre 22 : Se déployer par la respiration.\n26 janvier 23 : Explorer les appuis du pied\n9 février 23 : Retrouver le plaisir de la marche grâce à une meilleure utilisation des appuis.\n16 mars 23 : Mobilité du regard et souplesse de la nuque\n13 avril 23 : Détendre la mâchoire pour libérer la nuque et la respiration\n25 mai 23 : Détendre les épaules\n15 juin 23 : Ouvrir les bras avec fluidité \nSi certains de ces thèmes vous intéressent tout particulièrement\, et que la date prévue vous semble trop tardive\, n’oubliez pas qu’ils peuvent tous être explorés dans un travail « sur mesure » lors de séances individuelles. \nEt vous pouvez d’ores et déjà prendre note des dates des ateliers Feldenkrais-Méditation-Centrage :\n20 octobre\, 24 novembre\, 16 février\, 23 mars\, 20 avril\, 22 juin.
URL:https://dc.koalad.com/event/rentree-22-23cours-feldenkrais-collectifs-hebdomadaires/
ATTACH;FMTTYPE=image/jpeg:https://dc.koalad.com/wp-content/uploads/2017/01/feldenkrais-paris1.jpg
END:VEVENT
END:VCALENDAR