BEGIN:VCALENDAR
VERSION:2.0
PRODID:-//Disponibilité créative - Cours Feldenkrais à Paris - ECPv6.15.11//NONSGML v1.0//EN
CALSCALE:GREGORIAN
METHOD:PUBLISH
X-WR-CALNAME:Disponibilité créative - Cours Feldenkrais à Paris
X-ORIGINAL-URL:https://dc.koalad.com
X-WR-CALDESC:Évènements pour Disponibilité créative - Cours Feldenkrais à Paris
REFRESH-INTERVAL;VALUE=DURATION:PT1H
X-Robots-Tag:noindex
X-PUBLISHED-TTL:PT1H
BEGIN:VTIMEZONE
TZID:Europe/Paris
BEGIN:DAYLIGHT
TZOFFSETFROM:+0100
TZOFFSETTO:+0200
TZNAME:CEST
DTSTART:20210328T010000
END:DAYLIGHT
BEGIN:STANDARD
TZOFFSETFROM:+0200
TZOFFSETTO:+0100
TZNAME:CET
DTSTART:20211031T010000
END:STANDARD
BEGIN:DAYLIGHT
TZOFFSETFROM:+0100
TZOFFSETTO:+0200
TZNAME:CEST
DTSTART:20220327T010000
END:DAYLIGHT
BEGIN:STANDARD
TZOFFSETFROM:+0200
TZOFFSETTO:+0100
TZNAME:CET
DTSTART:20221030T010000
END:STANDARD
BEGIN:DAYLIGHT
TZOFFSETFROM:+0100
TZOFFSETTO:+0200
TZNAME:CEST
DTSTART:20230326T010000
END:DAYLIGHT
BEGIN:STANDARD
TZOFFSETFROM:+0200
TZOFFSETTO:+0100
TZNAME:CET
DTSTART:20231029T010000
END:STANDARD
END:VTIMEZONE
BEGIN:VEVENT
DTSTART;TZID=Europe/Paris:20220421T194500
DTEND;TZID=Europe/Paris:20220421T214500
DTSTAMP:20260421T085701
CREATED:20220403T082134Z
LAST-MODIFIED:20220418T103818Z
UID:18814-1650570300-1650577500@dc.koalad.com
SUMMARY:relier les bras au centre
DESCRIPTION:Des bras souples\, vivants\, et puissants\, sont des bras qui sont reliés au centre du corps\, et viennent prendre leur force jusque dans le bassin. \nLes épaules sont alors simplement un relais dans le mouvement des bras\, et pour cela doivent être bien différenciées de la cage thoracique. C’est ce que nous explorerons lors de cette soirée\, où nous préciserons notamment le rôle du haut du tronc\, du cercle de la première côte\, et nous ressentirons l’importance de la mobilité des omoplates et de la clavicule\, de l’allongement des pectoraux\, comme relais des bras vers le tronc. La respiration n’est plus entravée et retrouve sa liberté. L’épaule sert alors simplement à relayer les différentes orientations du bras. La puissance des mouvements vient du centre. Les mouvements des bras retrouvent alors ampleur et fluidité et légèreté. Les épaules n’ont plus de raisons de se contracter et de nous faire souffrir. Les bras peuvent s’élever et danser vers le ciel comme les branches d’un arbre. \nCette exploration peut aussi être intéressante pour des personnes qui ont mal au dos\, à la nuque\, ou des problématiques de respiration: parfois cela peut être lié à la manière d’engager les mouvements des bras. \nLes soirées thématiques sont une occasion de plonger profondément pour explorer notre fonctionnement dans le mouvement. Cet horaire en fin de journée permet de laisser au cerveau le temps d’intégrer ses apprentissages\, lors de la nuit qui s’en suit. \nElles se déroulent dans un contexte chaleureux\, limité à 12 participants\, pour favoriser un suivi personnalisé et un partage d’expériences. \n 
URL:https://dc.koalad.com/event/relier-les-bras-au-centre21avril22/
LOCATION:Espace du Temps Présent\, 30 rue Monsieur le Prince\, Paris\, France
CATEGORIES:soirée thématique
ATTACH;FMTTYPE=image/jpeg:https://dc.koalad.com/wp-content/uploads/2018/11/sculpture-naked-bosom-breasts-38444.jpeg
END:VEVENT
END:VCALENDAR