BEGIN:VCALENDAR
VERSION:2.0
PRODID:-//Disponibilité créative - Cours Feldenkrais à Paris - ECPv6.15.11//NONSGML v1.0//EN
CALSCALE:GREGORIAN
METHOD:PUBLISH
X-WR-CALNAME:Disponibilité créative - Cours Feldenkrais à Paris
X-ORIGINAL-URL:https://dc.koalad.com
X-WR-CALDESC:Évènements pour Disponibilité créative - Cours Feldenkrais à Paris
REFRESH-INTERVAL;VALUE=DURATION:PT1H
X-Robots-Tag:noindex
X-PUBLISHED-TTL:PT1H
BEGIN:VTIMEZONE
TZID:Europe/Paris
BEGIN:DAYLIGHT
TZOFFSETFROM:+0100
TZOFFSETTO:+0200
TZNAME:CEST
DTSTART:20200329T010000
END:DAYLIGHT
BEGIN:STANDARD
TZOFFSETFROM:+0200
TZOFFSETTO:+0100
TZNAME:CET
DTSTART:20201025T010000
END:STANDARD
BEGIN:DAYLIGHT
TZOFFSETFROM:+0100
TZOFFSETTO:+0200
TZNAME:CEST
DTSTART:20210328T010000
END:DAYLIGHT
BEGIN:STANDARD
TZOFFSETFROM:+0200
TZOFFSETTO:+0100
TZNAME:CET
DTSTART:20211031T010000
END:STANDARD
BEGIN:DAYLIGHT
TZOFFSETFROM:+0100
TZOFFSETTO:+0200
TZNAME:CEST
DTSTART:20220327T010000
END:DAYLIGHT
BEGIN:STANDARD
TZOFFSETFROM:+0200
TZOFFSETTO:+0100
TZNAME:CET
DTSTART:20221030T010000
END:STANDARD
END:VTIMEZONE
BEGIN:VEVENT
DTSTART;TZID=Europe/Paris:20211014T194500
DTEND;TZID=Europe/Paris:20211014T214500
DTSTAMP:20260422T154845
CREATED:20210917T153617Z
LAST-MODIFIED:20210917T153617Z
UID:18737-1634240700-1634247900@dc.koalad.com
SUMMARY:LIBERER SES MACHOIRES pour mieux croquer la vie!
DESCRIPTION:Les mâchoires serrées\, c’est comme une manière de prendre sur nous et passer par-dessus toutes les difficultés… magnifique preuve de la force de notre bonne et forte volonté ! \nMais est-ce tellement nécessaire et surtout utile? \nLe bruxisme (fait de grincer des dents) ou les mâchoires trop serrées sont surtout un symptôme de stress. Une manière de « nous accrocher »\, de ne pas relâcher la volonté. Sauf qu’il n’y a rien à croquer… que soi-même. Et le prix à payer est élevé : usure prématurée des dents\,  tensions et douleurs dans la nuque et les épaules notamment\, un sommeil moins réparateur\, et aussi une respiration moins aisée et efficace. Il faut dire que les muscles de la mâchoire sont parmi les plus puissants ! \nQue d’énergie gaspillée ! pour serrer les dents\, et essayer de les desserrer ! \nAlors qu’il peut devenir possible… puis facile … puis très agréable de détendre sa mâchoire grâce à quelques gestes simples\, effectués en portant attention à soi. On peut ainsi faire l’expérience du relâchement et retrouver du confort\, en particulier dans la nuque et la mâchoire\, et les épaules. \nLors de cette soirée\, quelques explorations fondamentales autour de la mâchoire nous permettront de sentir et redécouvrir l’espace de la mâchoire et ses liens à l’articulation cervico-crânienne. Les participants s’approprieront des protocoles simples\, qui peuvent être utilisés facilement en toute circonstance\, comme des « anti-stress ». Ouvrir grand la mâchoire\, c’est aussi un préambule au baillement\, sur le chemin du sommeil… \nRécupérer de la liberté dans la mâchoire nous permet d’avoir une nuque plus libre et une meilleure sensation dans notre verticalité\, mais aussi une ouverture plus fluide et plus tranquille au monde. Nous ferons l’expérience de mouvements où nous nous appliquons sans pour autant serrer les dents.\nAutant d’énergie que nous récupérons à mettre au service de nos intentions… pour mieux savourer et « croquer » la vie ! \nCes soirées thématiques sont une occasion d’explorer notre fonctionnement dans le mouvement plus en profondeur\, dans un rythme doux\, et de laisser ensuite « dormir » le cerveau\, pour intégrer les expériences qui lui ont été proposées. Elles peuvent venir à la place ou en complément des séances hebdomadaires. \nEt vous pouvez vous inscrire à celle-ci dès à présent… en  nous contactant par mail. \nATTENTION / inscription préalable obligatoire\, et nous travaillons dans un espace où le contrôle du Passe Sanitaire sera demandé.
URL:https://dc.koalad.com/event/liberer-ses-machoires-pour-mieux-croquer-la-vie14oct21/
LOCATION:Espace du Temps Présent\, 30 rue Monsieur le Prince\, Paris\, France
CATEGORIES:atelier feldenkrais,soirée thématique
ATTACH;FMTTYPE=image/jpeg:https://dc.koalad.com/wp-content/uploads/2018/03/animal-cat-kitten-funny-56857.jpeg
END:VEVENT
END:VCALENDAR