BEGIN:VCALENDAR
VERSION:2.0
PRODID:-//Disponibilité créative - Cours Feldenkrais à Paris - ECPv6.15.11//NONSGML v1.0//EN
CALSCALE:GREGORIAN
METHOD:PUBLISH
X-WR-CALNAME:Disponibilité créative - Cours Feldenkrais à Paris
X-ORIGINAL-URL:https://dc.koalad.com
X-WR-CALDESC:Évènements pour Disponibilité créative - Cours Feldenkrais à Paris
REFRESH-INTERVAL;VALUE=DURATION:PT1H
X-Robots-Tag:noindex
X-PUBLISHED-TTL:PT1H
BEGIN:VTIMEZONE
TZID:Europe/Paris
BEGIN:DAYLIGHT
TZOFFSETFROM:+0100
TZOFFSETTO:+0200
TZNAME:CEST
DTSTART:20230326T010000
END:DAYLIGHT
BEGIN:STANDARD
TZOFFSETFROM:+0200
TZOFFSETTO:+0100
TZNAME:CET
DTSTART:20231029T010000
END:STANDARD
BEGIN:DAYLIGHT
TZOFFSETFROM:+0100
TZOFFSETTO:+0200
TZNAME:CEST
DTSTART:20240331T010000
END:DAYLIGHT
BEGIN:STANDARD
TZOFFSETFROM:+0200
TZOFFSETTO:+0100
TZNAME:CET
DTSTART:20241027T010000
END:STANDARD
BEGIN:DAYLIGHT
TZOFFSETFROM:+0100
TZOFFSETTO:+0200
TZNAME:CEST
DTSTART:20250330T010000
END:DAYLIGHT
BEGIN:STANDARD
TZOFFSETFROM:+0200
TZOFFSETTO:+0100
TZNAME:CET
DTSTART:20251026T010000
END:STANDARD
END:VTIMEZONE
BEGIN:VEVENT
DTSTART;TZID=Europe/Paris:20240516T194500
DTEND;TZID=Europe/Paris:20240516T214500
DTSTAMP:20260422T141736
CREATED:20240303T113450Z
LAST-MODIFIED:20240510T084746Z
UID:19700-1715888700-1715895900@dc.koalad.com
SUMMARY:Les yeux et la liberté de la nuque
DESCRIPTION:Nous vivons dans un environnement où notre attention visuelle est sollicitée sans cesse\, où tout est fait pour que nos yeux demeurent « rivés » à divers types d’écran de nombreuses heures par jour. Petit à petit\, les habitudes s’installent\, les muscles autour des yeux se figent… et cela retentit sur toute notre posture\, limitant la mobilité de notre nuque et nos épaules.\n \nCette soirée sera l’occasion de pratiquer des explorations simples pour sentir ses yeux « autrement »\, apprendre à les « reposer »\, différencier les mouvements des yeux de ceux de la tête. Cela permettra de détendre les muscles oculaires et les fascias qui partent du « troisième oeil » entre les deux sourcils. Nous travaillerons aussi sur la notion de distance d’accommodation. Nous expérimenterons la possibilité de « voir autrement » en laissant l’information arriver vers nous plutôt que de nous laisser happer par des signaux qui veulent capturer notre attention. En plus de goûter la liberté d’une posture plus dynamique\, de délier la nuque\, nous profiterons d’un regard et d’une perception « rafraichies » sur l’espace qui nous entoure… \nCes soirées thématiques sont une occasion d’explorer notre fonctionnement dans le mouvement plus en profondeur\, dans un rythme doux\, et de laisser dormir le cerveau\, pour intégrer les expériences qui lui ont été proposées. Elles peuvent venir à la place ou en complément des séances hebdomadaires. \nEt vous pourrez vous inscrire à celle-ci dès à présent par l’intermédiaire du formulaire de contact.
URL:https://dc.koalad.com/event/les-yeux-et-la-liberte-de-la-nuque-2/
LOCATION:Espace du Temps Présent\, 30 rue Monsieur le Prince\, Paris\, France
CATEGORIES:soirée thématique
ATTACH;FMTTYPE=image/jpeg:https://dc.koalad.com/wp-content/uploads/2020/02/adult-blue-blue-eyes-865711.jpg
END:VEVENT
END:VCALENDAR