BEGIN:VCALENDAR
VERSION:2.0
PRODID:-//Disponibilité créative - Cours Feldenkrais à Paris - ECPv6.15.11//NONSGML v1.0//EN
CALSCALE:GREGORIAN
METHOD:PUBLISH
X-WR-CALNAME:Disponibilité créative - Cours Feldenkrais à Paris
X-ORIGINAL-URL:https://dc.koalad.com
X-WR-CALDESC:Évènements pour Disponibilité créative - Cours Feldenkrais à Paris
REFRESH-INTERVAL;VALUE=DURATION:PT1H
X-Robots-Tag:noindex
X-PUBLISHED-TTL:PT1H
BEGIN:VTIMEZONE
TZID:Europe/Paris
BEGIN:DAYLIGHT
TZOFFSETFROM:+0100
TZOFFSETTO:+0200
TZNAME:CEST
DTSTART:20190331T010000
END:DAYLIGHT
BEGIN:STANDARD
TZOFFSETFROM:+0200
TZOFFSETTO:+0100
TZNAME:CET
DTSTART:20191027T010000
END:STANDARD
BEGIN:DAYLIGHT
TZOFFSETFROM:+0100
TZOFFSETTO:+0200
TZNAME:CEST
DTSTART:20200329T010000
END:DAYLIGHT
BEGIN:STANDARD
TZOFFSETFROM:+0200
TZOFFSETTO:+0100
TZNAME:CET
DTSTART:20201025T010000
END:STANDARD
BEGIN:DAYLIGHT
TZOFFSETFROM:+0100
TZOFFSETTO:+0200
TZNAME:CEST
DTSTART:20210328T010000
END:DAYLIGHT
BEGIN:STANDARD
TZOFFSETFROM:+0200
TZOFFSETTO:+0100
TZNAME:CET
DTSTART:20211031T010000
END:STANDARD
END:VTIMEZONE
BEGIN:VEVENT
DTSTART;TZID=Europe/Paris:20200116T194500
DTEND;TZID=Europe/Paris:20200116T214500
DTSTAMP:20260420T155405
CREATED:20200105T181828Z
LAST-MODIFIED:20200115T103248Z
UID:17731-1579203900-1579211100@dc.koalad.com
SUMMARY:Des bras souples et vivants
DESCRIPTION:Des bras souples\, vivants\, et puissants\, sont des bras qui sont reliés au centre du corps\, et viennent prendre leur force jusque dans le bassin. \nLes épaules sont alors simplement un relais dans le mouvement des bras\, et pour cela doivent être bien différenciées de la cage thoracique. Celle-ci peut s’adapter au mouvement des bras\, sans avoir à les supporter. C’est ce que nous explorerons lors de cette soirée\, où nous préciserons notamment le rôle du haut du tronc\, du cercle de la première côte\, et nous ressentirons l’importance de la mobilité des omoplates et de la clavicule\, comme relais des bras vers le tronc. L’épaule peut alors accompagner les différentes orientations du bras. La puissance des mouvements vient du centre. Les mouvements des bras retrouvent  ampleur\, fluidité et légèreté. Les épaules n’ont plus de raisons de se contracter et de nous faire souffrir. Les bras peuvent s’élever et danser vers le ciel comme les branches d’un arbre. \nLes soirées thématiques sont une occasion de plonger profondément pour explorer notre fonctionnement dans le mouvement. Cet horaire en fin de journée permet de laisser au cerveau le temps d’intégrer ses apprentissages\, lors de la nuit qui s’en suit. \nElles se déroulent dans un contexte chaleureux\, limité à 12 participants\, pour favoriser un suivi personnalisé et un partage d’expériences. \n  \nPour vous inscrire\, vous pouvez utiliser l’onglet CONTACT\, et préciser l’objet de votre message. \n 
URL:https://dc.koalad.com/event/des-bras-souples-et-vivants/
LOCATION:Espace du Temps Présent\, 30 rue Monsieur le Prince\, Paris\, France
CATEGORIES:soirée thématique
ATTACH;FMTTYPE=image/jpeg:https://dc.koalad.com/wp-content/uploads/2018/11/sculpture-naked-bosom-breasts-38444.jpeg
END:VEVENT
END:VCALENDAR