BEGIN:VCALENDAR
VERSION:2.0
PRODID:-//Disponibilité créative - Cours Feldenkrais à Paris - ECPv6.15.11//NONSGML v1.0//EN
CALSCALE:GREGORIAN
METHOD:PUBLISH
X-WR-CALNAME:Disponibilité créative - Cours Feldenkrais à Paris
X-ORIGINAL-URL:https://dc.koalad.com
X-WR-CALDESC:Évènements pour Disponibilité créative - Cours Feldenkrais à Paris
REFRESH-INTERVAL;VALUE=DURATION:PT1H
X-Robots-Tag:noindex
X-PUBLISHED-TTL:PT1H
BEGIN:VTIMEZONE
TZID:Europe/Paris
BEGIN:DAYLIGHT
TZOFFSETFROM:+0100
TZOFFSETTO:+0200
TZNAME:CEST
DTSTART:20160327T010000
END:DAYLIGHT
BEGIN:STANDARD
TZOFFSETFROM:+0200
TZOFFSETTO:+0100
TZNAME:CET
DTSTART:20161030T010000
END:STANDARD
BEGIN:DAYLIGHT
TZOFFSETFROM:+0100
TZOFFSETTO:+0200
TZNAME:CEST
DTSTART:20170326T010000
END:DAYLIGHT
BEGIN:STANDARD
TZOFFSETFROM:+0200
TZOFFSETTO:+0100
TZNAME:CET
DTSTART:20171029T010000
END:STANDARD
BEGIN:DAYLIGHT
TZOFFSETFROM:+0100
TZOFFSETTO:+0200
TZNAME:CEST
DTSTART:20180325T010000
END:DAYLIGHT
BEGIN:STANDARD
TZOFFSETFROM:+0200
TZOFFSETTO:+0100
TZNAME:CET
DTSTART:20181028T010000
END:STANDARD
END:VTIMEZONE
BEGIN:VEVENT
DTSTART;TZID=Europe/Paris:20170909T100000
DTEND;TZID=Europe/Paris:20170909T180000
DTSTAMP:20260421T083342
CREATED:20170903T113206Z
LAST-MODIFIED:20170903T113206Z
UID:15811-1504951200-1504980000@dc.koalad.com
SUMMARY:Participation au Carrefour des Sports 6ème arrdt PARIS
DESCRIPTION:Nous présenterons les cours et activités Feldenkrais lors du Carrefour des Sports du 6ème arrondissement. \nL’occasion de se rencontrer\, d’échanger\, de poser toutes vos questions\, de s’inscrire\, pour un trimestres\, ou un cours d’essai.
URL:https://dc.koalad.com/event/carrefour-des-sports-oms6/
LOCATION:Mairie du 6ème arrondissement Paris\, 78 rue Bonaparte\, Paris
ATTACH;FMTTYPE=image/jpeg:https://dc.koalad.com/wp-content/uploads/2017/07/slide2.jpg
END:VEVENT
END:VCALENDAR