BEGIN:VCALENDAR
VERSION:2.0
PRODID:-//Disponibilité créative - Cours Feldenkrais à Paris - ECPv6.15.11//NONSGML v1.0//EN
CALSCALE:GREGORIAN
METHOD:PUBLISH
X-WR-CALNAME:Disponibilité créative - Cours Feldenkrais à Paris
X-ORIGINAL-URL:https://dc.koalad.com
X-WR-CALDESC:Évènements pour Disponibilité créative - Cours Feldenkrais à Paris
REFRESH-INTERVAL;VALUE=DURATION:PT1H
X-Robots-Tag:noindex
X-PUBLISHED-TTL:PT1H
BEGIN:VTIMEZONE
TZID:Europe/Paris
BEGIN:DAYLIGHT
TZOFFSETFROM:+0100
TZOFFSETTO:+0200
TZNAME:CEST
DTSTART:20170326T010000
END:DAYLIGHT
BEGIN:STANDARD
TZOFFSETFROM:+0200
TZOFFSETTO:+0100
TZNAME:CET
DTSTART:20171029T010000
END:STANDARD
BEGIN:DAYLIGHT
TZOFFSETFROM:+0100
TZOFFSETTO:+0200
TZNAME:CEST
DTSTART:20180325T010000
END:DAYLIGHT
BEGIN:STANDARD
TZOFFSETFROM:+0200
TZOFFSETTO:+0100
TZNAME:CET
DTSTART:20181028T010000
END:STANDARD
BEGIN:DAYLIGHT
TZOFFSETFROM:+0100
TZOFFSETTO:+0200
TZNAME:CEST
DTSTART:20190331T010000
END:DAYLIGHT
BEGIN:STANDARD
TZOFFSETFROM:+0200
TZOFFSETTO:+0100
TZNAME:CET
DTSTART:20191027T010000
END:STANDARD
END:VTIMEZONE
BEGIN:VEVENT
DTSTART;TZID=Europe/Paris:20180908T100000
DTEND;TZID=Europe/Paris:20180908T180000
DTSTAMP:20260422T202407
CREATED:20180824T132855Z
LAST-MODIFIED:20180824T132855Z
UID:16430-1536400800-1536429600@dc.koalad.com
SUMMARY:Participation au Carrefour des Sports 6ème arrdt PARIS
DESCRIPTION:Nous présenterons les cours hebdomadaires et autres activités Feldenkrais de notre association lors du Carrefour des Sports du 6ème arrondissement. \nL’occasion de rencontrer Blandine\, d’échanger\, de poser toutes vos questions\, de s’inscrire\, pour un trimestres\, ou un cours d’essai. \nAlors\, vous venez ?!… \n  \n\nForum des Associations du 6e arrondissementLe 8 septembre 2018De 10h à 18hMairie du 6e78 rue Bonaparte\, 75006 ParisEt Place Saint Sulpice\, 75006 Paris \nMétro ligne 4\, Saint-SulpiceBus ligne 84\, Musée du Luxembourg\, ligne 87 Place Saint Sulpice
URL:https://dc.koalad.com/event/carrefour-des-sports-oms6-2018/
LOCATION:Mairie du 6ème arrondissement Paris\, 78 rue Bonaparte\, Paris
ATTACH;FMTTYPE=image/jpeg:https://dc.koalad.com/wp-content/uploads/2017/07/slide2.jpg
END:VEVENT
END:VCALENDAR