BEGIN:VCALENDAR
VERSION:2.0
PRODID:-//Disponibilité créative - Cours Feldenkrais à Paris - ECPv6.15.11//NONSGML v1.0//EN
CALSCALE:GREGORIAN
METHOD:PUBLISH
X-WR-CALNAME:Disponibilité créative - Cours Feldenkrais à Paris
X-ORIGINAL-URL:https://dc.koalad.com
X-WR-CALDESC:Évènements pour Disponibilité créative - Cours Feldenkrais à Paris
REFRESH-INTERVAL;VALUE=DURATION:PT1H
X-Robots-Tag:noindex
X-PUBLISHED-TTL:PT1H
BEGIN:VTIMEZONE
TZID:Europe/Paris
BEGIN:DAYLIGHT
TZOFFSETFROM:+0100
TZOFFSETTO:+0200
TZNAME:CEST
DTSTART:20190331T010000
END:DAYLIGHT
BEGIN:STANDARD
TZOFFSETFROM:+0200
TZOFFSETTO:+0100
TZNAME:CET
DTSTART:20191027T010000
END:STANDARD
BEGIN:DAYLIGHT
TZOFFSETFROM:+0100
TZOFFSETTO:+0200
TZNAME:CEST
DTSTART:20200329T010000
END:DAYLIGHT
BEGIN:STANDARD
TZOFFSETFROM:+0200
TZOFFSETTO:+0100
TZNAME:CET
DTSTART:20201025T010000
END:STANDARD
BEGIN:DAYLIGHT
TZOFFSETFROM:+0100
TZOFFSETTO:+0200
TZNAME:CEST
DTSTART:20210328T010000
END:DAYLIGHT
BEGIN:STANDARD
TZOFFSETFROM:+0200
TZOFFSETTO:+0100
TZNAME:CET
DTSTART:20211031T010000
END:STANDARD
END:VTIMEZONE
BEGIN:VEVENT
DTSTART;TZID=Europe/Paris:20200628T160000
DTEND;TZID=Europe/Paris:20200629T133000
DTSTAMP:20260421T065636
CREATED:20200610T161754Z
LAST-MODIFIED:20200616T104336Z
UID:18137-1593360000-1593437400@dc.koalad.com
SUMMARY:ATELIER SPECIAL pour célébrer une fin d'année si particulière!
DESCRIPTION:Bientôt les vacances\, et celles-ci auront une saveur toute particulière après la série d’événements que nous venons de traverser.\nDepuis trois mois\, je vous ai proposé de cheminer ensemble avec des séances de Méthode Feldenkrais et de Méditation-Centrage.\nCela nous a permis de composer avec l’incertitude\, de faire bouger nos corps qui n’avaient pas le droit de sortir\, d’accueillir et apprivoiser nos émotions. \nEtre conscient\, et se connecter à son énergie profonde pour faire face\nSurmonter le stress et ne pas oublier pour autant les gestes barrière\nSe soucier de soi\, se soucier des autres\,\nEtre conscient du danger\, et savourer l’instant présent\, ici et maintenant. \nVous avez mis de la curiosité là où il y aurait pu avoir seulement de la colère\, ou de la peur. Vous avez pu découvrir\, explorer\, apprendre de tout ceci\, comme j’ai pu aussi le faire grâce à vous.J’ai beaucoup de gratitude pour ces moments très intenses que nous avons pu vivre ensemble\, et je vous remercie de votre participation et de votre engagement.  \nCela m’a donné envie de célébrer la fin de notre saison de cours\, qui coïncide avec la diminution de l’épidémie et le déconfinement.\nC’est pourquoi je vous propose de nous retrouver sur le plancher de l’Espace du Temps Présent\, pour uneséance spéciale en deux parties\, dimanche 28 juin de 16h à 19h et lundi 29 juin de 10h30 à 13h30. \nJe vous guiderai dans des leçons Feldenkrais\, avec notamment des pratiques sur mesure à emmener avec vous en vacances. Et puis nous aurons aussi des temps de centrage et de méditation\, pour continuer notre nettoyage émotionnel par rapport à ce que nous avons traversé\, ainsi que des temps de partage pour célébrer l’arrivée de l’été. \nCes séances se tiendront\nDimanche 28 juin de 16h à 19h\nLundi 29 juin de 10h30 à 13h30\nà l’Espace du Temps Présent\, 30 rue Monsieur le Prince\, Paris 6ème. \nJe sais que certains d’entre vous seront déjà ou encore loin de Paris\, que d’autres ont des contraintes professionnelles et que les sollicitations post-confinement sont nombreuses\, mais j’ai composé au mieux avec les créneaux disponibles à l’Espace du Temps Présent. Et vous pouvez participer à la séance du 28 juin et/ou à celle du 29 juin : l’une ou l’autre séance\, ou les deux c’est encore mieux ! \nL’inscription est obligatoire d’autant que le nombre des participants est limité à 14 dans le respect des consignes sanitaires.\nVous pouvez aussi vous inscrire même si vous n’avez pu participer aux séances proposées par zoom depuis le début du confinement. \nLa participation financière est libre\, et toute contribution sera bienvenue. A titre indicatif\, je rappelle que le tarif des soirées thématiques est de 38 euros. \nPour vous inscrire\, je vous invite à le faire en m’envoyant un mail\, qui me permettra de savoir si vous souhaitez participer ou non aux séances\, et auxquelles. Je pourrai alors vous confirmer votre inscription.\nJe vous invite à y répondre rapidement\, afin que je puisse organiser au mieux ces deux séances. Vous pouvez aussi me contacter directement. \nEt pour ceux qui ne pourront pas participer\, j’espère que nous aurons plein d’occasions de nous retrouver bientôt\, dans les salles et/ou par zoom\, lors de séances collectives et/ou individuelles . \nJe me réserve la possibilité d’annuler l’une ou l’autre séance\, si le nombre des participants est inférieur à 5.  \n 
URL:https://dc.koalad.com/event/atelierfinjuin20feldenkraiscentrage/
CATEGORIES:atelier feldenkrais,feldenkrais et méditation
ATTACH;FMTTYPE=image/jpeg:https://dc.koalad.com/wp-content/uploads/2020/04/edits-2580664_960_720.jpg
END:VEVENT
END:VCALENDAR