BEGIN:VCALENDAR
VERSION:2.0
PRODID:-//Disponibilité créative - Cours Feldenkrais à Paris - ECPv6.15.11//NONSGML v1.0//EN
CALSCALE:GREGORIAN
METHOD:PUBLISH
X-WR-CALNAME:Disponibilité créative - Cours Feldenkrais à Paris
X-ORIGINAL-URL:https://dc.koalad.com
X-WR-CALDESC:Évènements pour Disponibilité créative - Cours Feldenkrais à Paris
REFRESH-INTERVAL;VALUE=DURATION:PT1H
X-Robots-Tag:noindex
X-PUBLISHED-TTL:PT1H
BEGIN:VTIMEZONE
TZID:Europe/Paris
BEGIN:DAYLIGHT
TZOFFSETFROM:+0100
TZOFFSETTO:+0200
TZNAME:CEST
DTSTART:20180325T010000
END:DAYLIGHT
BEGIN:STANDARD
TZOFFSETFROM:+0200
TZOFFSETTO:+0100
TZNAME:CET
DTSTART:20181028T010000
END:STANDARD
BEGIN:DAYLIGHT
TZOFFSETFROM:+0100
TZOFFSETTO:+0200
TZNAME:CEST
DTSTART:20190331T010000
END:DAYLIGHT
BEGIN:STANDARD
TZOFFSETFROM:+0200
TZOFFSETTO:+0100
TZNAME:CET
DTSTART:20191027T010000
END:STANDARD
BEGIN:DAYLIGHT
TZOFFSETFROM:+0100
TZOFFSETTO:+0200
TZNAME:CEST
DTSTART:20200329T010000
END:DAYLIGHT
BEGIN:STANDARD
TZOFFSETFROM:+0200
TZOFFSETTO:+0100
TZNAME:CET
DTSTART:20201025T010000
END:STANDARD
END:VTIMEZONE
BEGIN:VEVENT
DTSTART;TZID=Europe/Paris:20191208T180000
DTEND;TZID=Europe/Paris:20191208T210000
DTSTAMP:20260421T083500
CREATED:20191005T171505Z
LAST-MODIFIED:20191005T171518Z
UID:17671-1575828000-1575838800@dc.koalad.com
SUMMARY:Atelier Feldenkrais et Méditation: être présent pour soi
DESCRIPTION:Etre présent pour soi\, c’est ouvrir un espace sacré dans lequel on peut accueillir ses pensées\, ses émotions\, ses intentions\, relâcher nos tensions et rester attentif à ce qui se passe. Pouvoir y rester le temps nécessaire pour nous. Et puis sentir quand c’est le juste moment pour revenir se relier à ce qui se passe tout autour de nous.\n \nLa Méthode Feldenkrais nous conduit à observer les mouvements du corps.\nLa Méditation nous entraîne à observer les mouvements de nos pensées.\nLe Centrage en génératif nous permet d’observer comment nos intentions peuvent évoluer et se déployer. \nCes prises de conscience dans le mouvement et dans la pensée nous permettent de repérer nos schémas\, de les accueillir\, de les reconnaître\, et de nous libérer de nos habitudes\, pour ouvrir la possibilité de transformations. \nLors de ces ateliers\, nous travaillons sur notre centrage et notre présence en alternant…\n-des leçons Feldenkrais (…qui aident aussi à apprivoiser sa posture pour méditer)\n-des temps de méditation\n-des moments d’échange-partage \nCe travail s’adresse à tous\, pratiquant la Méthode Feldenkrais  et/ou la méditation\nou… encore ni l’un ni l’autre… mais s’y intéressant. Inscription préalable obligatoire. \nLa participation aux frais est de 50 €\,\net 35€ pour les étudiants/ demandeurs d’emploi/ intermittents. \nVous pouvez vous inscrire en m’envoyant un mail
URL:https://dc.koalad.com/event/atelier-feldenkrais-et-meditation8dec-etre-present-pour-soi/
LOCATION:Dojo Ten Shin Kai\, 40 rue Quincampoix\, Parix\, 75004
CATEGORIES:feldenkrais et méditation
ATTACH;FMTTYPE=image/jpeg:https://dc.koalad.com/wp-content/uploads/2019/09/prise-conscience-paris-old.jpg
END:VEVENT
END:VCALENDAR