BEGIN:VCALENDAR
VERSION:2.0
PRODID:-//Disponibilité créative - Cours Feldenkrais à Paris - ECPv6.15.11//NONSGML v1.0//EN
CALSCALE:GREGORIAN
METHOD:PUBLISH
X-WR-CALNAME:Disponibilité créative - Cours Feldenkrais à Paris
X-ORIGINAL-URL:https://dc.koalad.com
X-WR-CALDESC:Évènements pour Disponibilité créative - Cours Feldenkrais à Paris
REFRESH-INTERVAL;VALUE=DURATION:PT1H
X-Robots-Tag:noindex
X-PUBLISHED-TTL:PT1H
BEGIN:VTIMEZONE
TZID:Europe/Paris
BEGIN:DAYLIGHT
TZOFFSETFROM:+0100
TZOFFSETTO:+0200
TZNAME:CEST
DTSTART:20170326T010000
END:DAYLIGHT
BEGIN:STANDARD
TZOFFSETFROM:+0200
TZOFFSETTO:+0100
TZNAME:CET
DTSTART:20171029T010000
END:STANDARD
BEGIN:DAYLIGHT
TZOFFSETFROM:+0100
TZOFFSETTO:+0200
TZNAME:CEST
DTSTART:20180325T010000
END:DAYLIGHT
BEGIN:STANDARD
TZOFFSETFROM:+0200
TZOFFSETTO:+0100
TZNAME:CET
DTSTART:20181028T010000
END:STANDARD
BEGIN:DAYLIGHT
TZOFFSETFROM:+0100
TZOFFSETTO:+0200
TZNAME:CEST
DTSTART:20190331T010000
END:DAYLIGHT
BEGIN:STANDARD
TZOFFSETFROM:+0200
TZOFFSETTO:+0100
TZNAME:CET
DTSTART:20191027T010000
END:STANDARD
END:VTIMEZONE
BEGIN:VEVENT
DTSTART;TZID=Europe/Paris:20180624T180000
DTEND;TZID=Europe/Paris:20180624T210000
DTSTAMP:20260422T214513
CREATED:20180524T174434Z
LAST-MODIFIED:20180601T103137Z
UID:16383-1529863200-1529874000@dc.koalad.com
SUMMARY:Atelier Feldenkrais et Méditation : ouvrir l'espace pour sentir résonner nos intentions
DESCRIPTION:Je vous propose pour cette dernière séance de l’année 2017-2018 d’explorer les liens et différences entre méditation et état hypnotique. \nCette année\, j’ai eu en effet la chance immense de pouvoir suivre l’enseignement de Stephen Gilligan\, qui a été un disciple d’Erickson\, et qui a développé une démarche qui s’appelle la Transe Générative et qui un puissant outil pour la créativité. C’est une forme d’hypnose particulière\, où on développe un dialogue entre le conscient et l’inconscient dans un espace sans jugement où tout est possible. Cela ressemble à de la méditation dans laquelle on viendrait écouter comment résonnent des intentions\, et s’ouvrir au surgissement des obstacles et aussi des ressources qui vont se relier à ces intentions. \nIl n’y a pas besoin d’avoir d’intention définie a priori : elle peut s’imposer lors du travail. \nLe déroulement des ateliers repose sur une mise en parallèle de la Méthode Feldenkrais et de la démarche de méditation :\nLa Méthode Feldenkrais nous conduit à observer les mouvements du corps.\nLa Méditation nous entraîne à observer les mouvements de nos pensées.\nCes prises de conscience dans le mouvement et dans la pensée nous permettent de repérer nos schémas\, de les accueillir\, de les reconnaître\, et de nous libérer de nos habitudes\, pour ouvrir la possibilité de transformations. \nLors de ces ateliers\, nous travaillons sur notre centrage et notre présence avec…\n-des leçons Feldenkrais (…qui aident aussi à apprivoiser sa posture pour méditer)\n-des temps de méditation\n-des moments d’échange-partage \nCe travail s’adresse à tous\, pratiquant la Méthode Feldenkrais  et/ou la méditation\nou… encore ni l’un ni l’autre… mais s’y intéressant. Inscription préalable obligatoire. \nLa participation aux frais est de 50 €\,\net 35€ pour les étudiants/ demandeurs d’emploi/ intermittents.
URL:https://dc.koalad.com/event/atelier-feldenkrais-et-meditation-changement-generatif/
LOCATION:Dojo Ten Shin Kai\, 40 rue Quincampoix\, Parix\, 75004
CATEGORIES:atelier feldenkrais
ATTACH;FMTTYPE=image/jpeg:https://dc.koalad.com/wp-content/uploads/2018/05/IMG_2321-e1527183625663.jpg
END:VEVENT
END:VCALENDAR