BEGIN:VCALENDAR
VERSION:2.0
PRODID:-//Disponibilité créative - Cours Feldenkrais à Paris - ECPv6.15.11//NONSGML v1.0//EN
CALSCALE:GREGORIAN
METHOD:PUBLISH
X-WR-CALNAME:Disponibilité créative - Cours Feldenkrais à Paris
X-ORIGINAL-URL:https://dc.koalad.com
X-WR-CALDESC:Évènements pour Disponibilité créative - Cours Feldenkrais à Paris
REFRESH-INTERVAL;VALUE=DURATION:PT1H
X-Robots-Tag:noindex
X-PUBLISHED-TTL:PT1H
BEGIN:VTIMEZONE
TZID:Europe/Paris
BEGIN:DAYLIGHT
TZOFFSETFROM:+0100
TZOFFSETTO:+0200
TZNAME:CEST
DTSTART:20210328T010000
END:DAYLIGHT
BEGIN:STANDARD
TZOFFSETFROM:+0200
TZOFFSETTO:+0100
TZNAME:CET
DTSTART:20211031T010000
END:STANDARD
BEGIN:DAYLIGHT
TZOFFSETFROM:+0100
TZOFFSETTO:+0200
TZNAME:CEST
DTSTART:20220327T010000
END:DAYLIGHT
BEGIN:STANDARD
TZOFFSETFROM:+0200
TZOFFSETTO:+0100
TZNAME:CET
DTSTART:20221030T010000
END:STANDARD
BEGIN:DAYLIGHT
TZOFFSETFROM:+0100
TZOFFSETTO:+0200
TZNAME:CEST
DTSTART:20230326T010000
END:DAYLIGHT
BEGIN:STANDARD
TZOFFSETFROM:+0200
TZOFFSETTO:+0100
TZNAME:CET
DTSTART:20231029T010000
END:STANDARD
END:VTIMEZONE
BEGIN:VEVENT
DTSTART;TZID=Europe/Paris:20221020T194500
DTEND;TZID=Europe/Paris:20221020T214500
DTSTAMP:20260420T144600
CREATED:20210914T111817Z
LAST-MODIFIED:20221002T100852Z
UID:18734-1666295100-1666302300@dc.koalad.com
SUMMARY:Atelier Feldenkrais et Méditation-Centrage Génératif : revenir au centre
DESCRIPTION:Etre présent pour soi\, c’est ouvrir un espace sacré dans lequel on peut accueillir ses pensées\, ses émotions\, ses intentions\, relâcher nos tensions et rester attentif à ce qui se passe.\nPouvoir y rester le temps nécessaire pour nous\, dans un cadre sécurisant.\nSentir que notre énergie se recueille\, se rassemble\, se remet en mouvement.\nEt puis sentir quand c’est le juste moment pour revenir se relier à ce qui se passe tout autour de nous.\nPouvoir être à la fois présent\, à l’écoute et rester centré.\n \nLa Méthode Feldenkrais nous conduit à observer les mouvements du corps.\nLa Méditation nous entraîne à observer les mouvements de nos pensées.\nLe Centrage en génératif nous permet de relier corps et esprit\, et d’observer comment nos intentions peuvent évoluer et se déployer. \nCes prises de conscience dans le mouvement et dans la pensée nous permettent de repérer nos schémas\, de les accueillir\, de les reconnaître\, et de nous libérer de nos habitudes\, pour ouvrir la possibilité de transformations. \nLors de ces ateliers\, nous travaillons sur notre centrage et notre présence en tissant…\n-des explorations Feldenkrais (…qui aident aussi à apprivoiser sa posture pour méditer)\n-des temps de méditation utilisant des outils d’Hypnose Générative\n-des moments d’échange-partage-soutien \nL’occasion de déposer ses tensions\, de procéder à un nettoyage intérieur\, et de rassembler notre énergie\, en bénéficiant du soutien d’un petit groupe bienveillant. \nCe travail s’adresse à tous\, pratiquant la Méthode Feldenkrais  et/ou la méditation\nou… encore ni l’un ni l’autre… mais s’y intéressant. \nLa participation aux frais est de 40 €\,\nInscription par mail. \nCes ateliers seront proposés régulièrement au cours de l’année. \nTarif réduit possible\, pour un atelier : 25€ pour les étudiants/ demandeurs d’emploi/ intermittents.\nPaiement préalable par virement.
URL:https://dc.koalad.com/event/atelier-feldenkrais-et-meditation-centrage-20octobre22/
LOCATION:Espace du Temps Présent\, 30 rue Monsieur le Prince\, Paris\, France
CATEGORIES:feldenkrais et méditation
ATTACH;FMTTYPE=image/jpeg:https://dc.koalad.com/wp-content/uploads/2020/04/nature-2592000_960_720.jpg
END:VEVENT
END:VCALENDAR