BEGIN:VCALENDAR
VERSION:2.0
PRODID:-//Disponibilité créative - Cours Feldenkrais à Paris - ECPv6.15.11//NONSGML v1.0//EN
CALSCALE:GREGORIAN
METHOD:PUBLISH
X-WR-CALNAME:Disponibilité créative - Cours Feldenkrais à Paris
X-ORIGINAL-URL:https://dc.koalad.com
X-WR-CALDESC:Évènements pour Disponibilité créative - Cours Feldenkrais à Paris
REFRESH-INTERVAL;VALUE=DURATION:PT1H
X-Robots-Tag:noindex
X-PUBLISHED-TTL:PT1H
BEGIN:VTIMEZONE
TZID:Europe/Paris
BEGIN:DAYLIGHT
TZOFFSETFROM:+0100
TZOFFSETTO:+0200
TZNAME:CEST
DTSTART:20170326T010000
END:DAYLIGHT
BEGIN:STANDARD
TZOFFSETFROM:+0200
TZOFFSETTO:+0100
TZNAME:CET
DTSTART:20171029T010000
END:STANDARD
BEGIN:DAYLIGHT
TZOFFSETFROM:+0100
TZOFFSETTO:+0200
TZNAME:CEST
DTSTART:20180325T010000
END:DAYLIGHT
BEGIN:STANDARD
TZOFFSETFROM:+0200
TZOFFSETTO:+0100
TZNAME:CET
DTSTART:20181028T010000
END:STANDARD
BEGIN:DAYLIGHT
TZOFFSETFROM:+0100
TZOFFSETTO:+0200
TZNAME:CEST
DTSTART:20190331T010000
END:DAYLIGHT
BEGIN:STANDARD
TZOFFSETFROM:+0200
TZOFFSETTO:+0100
TZNAME:CET
DTSTART:20191027T010000
END:STANDARD
END:VTIMEZONE
BEGIN:VEVENT
DTSTART;TZID=Europe/Paris:20180408T180000
DTEND;TZID=Europe/Paris:20180408T210000
DTSTAMP:20260422T202341
CREATED:20180319T154357Z
LAST-MODIFIED:20180601T103257Z
UID:16360-1523210400-1523221200@dc.koalad.com
SUMMARY:Atelier Feldenkrais et Méditation
DESCRIPTION:Nous entrons dans le printemps. Tout ce qui renaît à cette occasion appelle notre attention!\nAprès le repli de l’hiver\, l’occasion de nous ouvrir à ce qui nous entoure\, à ce qui émerge\, au mouvement du monde. \nLors de cette séance\, nous explorerons la possibilité de nous relier à notre environnement dans un mouvement d’ouverture tout en restant centré et connecté à soi. Une démarche faite d’aller-retours entre notre espace intérieur et l’espace autour ainsi que les personnes autour de nous. Comment être pleinement présent à cet entourage\, sans se laisser « happer » et tout en préservant sa présence à soi-même. \nLe déroulement des ateliers repose sur une mise en parallèle de la Méthode Feldenkrais et de la démarche de méditation :\nLa Méthode Feldenkrais nous conduit à observer les mouvements du corps.\nLa Méditation nous entraîne à observer les mouvements de nos pensées.\nCes prises de conscience dans le mouvement et dans la pensée nous permettent de repérer nos schémas\, de les accueillir\, de les reconnaître\, et de nous libérer de nos habitudes\, pour ouvrir la possibilité de transformations. \nLors de ces ateliers\, nous travaillons sur notre centrage et notre présence avec…\n-des leçons Feldenkrais (…qui aident aussi à apprivoiser sa posture pour méditer)\n-des temps de méditation\n-des moments d’échange-partage \nCe travail s’adresse à tous\, pratiquant la Méthode Feldenkrais  et/ou la méditation\nou… encore ni l’un ni l’autre… mais s’y intéressant. Inscription préalable obligatoire. \nLa participation aux frais est de 50 €\,\net 35€ pour les étudiants/ demandeurs d’emploi/ intermittents.
URL:https://dc.koalad.com/event/atelier-feldenkrais-et-meditation-5/
LOCATION:Dojo Ten Shin Kai\, 40 rue Quincampoix\, Parix\, 75004
CATEGORIES:atelier feldenkrais
ATTACH;FMTTYPE=image/jpeg:https://dc.koalad.com/wp-content/uploads/2018/03/pexels-photo-515631.jpeg
END:VEVENT
END:VCALENDAR