BEGIN:VCALENDAR
VERSION:2.0
PRODID:-//Disponibilité créative - Cours Feldenkrais à Paris - ECPv6.15.11//NONSGML v1.0//EN
CALSCALE:GREGORIAN
METHOD:PUBLISH
X-WR-CALNAME:Disponibilité créative - Cours Feldenkrais à Paris
X-ORIGINAL-URL:https://dc.koalad.com
X-WR-CALDESC:Évènements pour Disponibilité créative - Cours Feldenkrais à Paris
REFRESH-INTERVAL;VALUE=DURATION:PT1H
X-Robots-Tag:noindex
X-PUBLISHED-TTL:PT1H
BEGIN:VTIMEZONE
TZID:Europe/Paris
BEGIN:DAYLIGHT
TZOFFSETFROM:+0100
TZOFFSETTO:+0200
TZNAME:CEST
DTSTART:20180325T010000
END:DAYLIGHT
BEGIN:STANDARD
TZOFFSETFROM:+0200
TZOFFSETTO:+0100
TZNAME:CET
DTSTART:20181028T010000
END:STANDARD
BEGIN:DAYLIGHT
TZOFFSETFROM:+0100
TZOFFSETTO:+0200
TZNAME:CEST
DTSTART:20190331T010000
END:DAYLIGHT
BEGIN:STANDARD
TZOFFSETFROM:+0200
TZOFFSETTO:+0100
TZNAME:CET
DTSTART:20191027T010000
END:STANDARD
BEGIN:DAYLIGHT
TZOFFSETFROM:+0100
TZOFFSETTO:+0200
TZNAME:CEST
DTSTART:20200329T010000
END:DAYLIGHT
BEGIN:STANDARD
TZOFFSETFROM:+0200
TZOFFSETTO:+0100
TZNAME:CET
DTSTART:20201025T010000
END:STANDARD
END:VTIMEZONE
BEGIN:VEVENT
DTSTART;TZID=Europe/Paris:20190331T180000
DTEND;TZID=Europe/Paris:20190331T210000
DTSTAMP:20260421T020457
CREATED:20190310T175253Z
LAST-MODIFIED:20190310T175253Z
UID:16610-1554055200-1554066000@dc.koalad.com
SUMMARY:Atelier Feldenkrais et Méditation: accueillir les pensées pour les calmer
DESCRIPTION:Difficile souvent en méditation\, d’apaiser le flot des pensées.\nElles viennent nous rattraper et agiter l’espace de calme que nous essayons justement de créer. \nPas la peine de se mettre en colère contre ces pensées : ça ne marche pas!\nAlors nous pourrions faire autrement et commencer par les saluer.\n \nJ’aime l’image d’une couronne pour les célébrer\, les ceindre d’une auréole\, ces pensées qui nous sont si précieuses dans de nombreux moments de notre vie.  \nPuis nous pouvons inviter l’intelligence à descendre\, vers le cœur\, vers le ventre\, et les pensées vont découvrir l’intelligence somatique et l’intelligence du champ. Ainsi enrôlées\, les pensées sont souvent ravies de venir participer à ce nouveau jeu.  \nL’espace s’agrandit.\nLe silence résonne doucement.\nL’espace s’agrandit encore.\n \nLa Méthode Feldenkrais nous permet de développer un langage pour écouter notre corps et trouver plus de confort et de tranquillité. L’immobilité de la méditation devient un mouvement subtil.\nLa Méditation nous entraîne à observer les mouvements de nos pensées.\nCes deux pratiques se rejoignent pour nous aider à développer une Présence Générative.\nNous apprenons à écouter\, prendre le temps\, et ressentir comment nous nous organisons  pour passer de l’intention à l’action. \nCes prises de conscience dans le mouvement et dans la pensée nous permettent de repérer nos schémas\, de les accueillir\, de les reconnaître\, et de nous libérer des habitudes qui nous limitent. \n Nous apprenons à nous ouvrir à la lumière\, source par delà la volonté\, de toute transformation profonde. \nLors de ces ateliers\, nous travaillons sur notre centrage et notre présence en alternant…\n-des leçons Feldenkrais (… qui entraînent l’attention et aident aussi à apprivoiser sa posture pour méditer)\n-des temps de méditation\n-des temps pour se connecter à ses intentions positives et à ses ressources\n-des moments d’échange-partage \nCe travail s’adresse à tous\, pratiquant la Méthode Feldenkrais  et/ou la méditation\nou… encore ni l’un ni l’autre… mais s’y intéressant. Inscription préalable obligatoire. \nLa participation aux frais est de 50 €\,\net 35€ pour les étudiants/ demandeurs d’emploi/ intermittents. \nVous pouvez vous inscrire par le formulaire de contact ou en cliquant ici.
URL:https://dc.koalad.com/event/atelier-feldenkrais-et-meditation-31mars19-2/
LOCATION:Dojo Ten Shin Kai\, 40 rue Quincampoix\, Parix\, 75004
CATEGORIES:atelier feldenkrais,soirée thématique
ATTACH;FMTTYPE=image/jpeg:https://dc.koalad.com/wp-content/uploads/2019/03/IMG_6764-e1552217652803.jpg
END:VEVENT
END:VCALENDAR