BEGIN:VCALENDAR
VERSION:2.0
PRODID:-//Disponibilité créative - Cours Feldenkrais à Paris - ECPv6.15.11//NONSGML v1.0//EN
CALSCALE:GREGORIAN
METHOD:PUBLISH
X-WR-CALNAME:Disponibilité créative - Cours Feldenkrais à Paris
X-ORIGINAL-URL:https://dc.koalad.com
X-WR-CALDESC:Évènements pour Disponibilité créative - Cours Feldenkrais à Paris
REFRESH-INTERVAL;VALUE=DURATION:PT1H
X-Robots-Tag:noindex
X-PUBLISHED-TTL:PT1H
BEGIN:VTIMEZONE
TZID:Europe/Paris
BEGIN:DAYLIGHT
TZOFFSETFROM:+0100
TZOFFSETTO:+0200
TZNAME:CEST
DTSTART:20160327T010000
END:DAYLIGHT
BEGIN:STANDARD
TZOFFSETFROM:+0200
TZOFFSETTO:+0100
TZNAME:CET
DTSTART:20161030T010000
END:STANDARD
BEGIN:DAYLIGHT
TZOFFSETFROM:+0100
TZOFFSETTO:+0200
TZNAME:CEST
DTSTART:20170326T010000
END:DAYLIGHT
BEGIN:STANDARD
TZOFFSETFROM:+0200
TZOFFSETTO:+0100
TZNAME:CET
DTSTART:20171029T010000
END:STANDARD
BEGIN:DAYLIGHT
TZOFFSETFROM:+0100
TZOFFSETTO:+0200
TZNAME:CEST
DTSTART:20180325T010000
END:DAYLIGHT
BEGIN:STANDARD
TZOFFSETFROM:+0200
TZOFFSETTO:+0100
TZNAME:CET
DTSTART:20181028T010000
END:STANDARD
END:VTIMEZONE
BEGIN:VEVENT
DTSTART;TZID=Europe/Paris:20171022T100000
DTEND;TZID=Europe/Paris:20171022T130000
DTSTAMP:20260422T215058
CREATED:20170924T143032Z
LAST-MODIFIED:20180601T103336Z
UID:15831-1508666400-1508677200@dc.koalad.com
SUMMARY:Atelier Feldenkrais et Méditation
DESCRIPTION:Bonjour à tous\,\nJ’ai le plaisir de vous annoncer le prochain atelier \nFeldenkrais et Méditation\nqui aura lieu le\nDimanche 22 octobre de 10h à 13h à la Compagnie Retouramont \nCe sera l’occasion de\nTravailler sur les mouvements du corps et de nos pensées\,\ndécouvrir comment ils sont liés\, et comment ils se transforment\,\nquand nous y porter attention.\nNous pourrons aussi nous connecter à nos intentions\,\nles laisser résonner au plus près de notre centre\,. \nNous traverserons\n-des leçons Feldenkrais (…qui aident aussi à trouver et tenir sa posture)\n-des temps de méditation\n-des moments d’échange-partage destinés à s’entraîner à rester centré\, tout en étant ouvert au monde alentour. \nCe travail s’adresse à tous\, pratiquant la Méthode Feldenkrais         et/ou la méditation\nou… encore ni l’un ni l’autre… mais s’y intéressant. \net voici le lien vers une émission disponible encore une dizaine de jours sur ARTE qui vous permettra de vous convaincre de l’intérêt de la démarche :\nLes étonnantes vertus de la méditation \nCet atelier se déroulera dans la salle de répétition de la\nCompagnie Retouramont\, 197 rue de Paris à Charenton (tout près de la Porte de Charenton)\nle dimanche 22 octobre de 10h à 13h\nInscription préalable obligatoire.\nLa participation aux frais est de\n50 €\,\net 35€ pour les étudiants/ demandeurs d’emploi/ intermittents.
URL:https://dc.koalad.com/event/atelier-feldenkrais-et-meditation-2/
LOCATION:Dojo Ten Shin Kai\, 40 rue Quincampoix\, Parix\, 75004
CATEGORIES:atelier feldenkrais
ATTACH;FMTTYPE=image/jpeg:https://dc.koalad.com/wp-content/uploads/2017/07/meditation-feldenkrais-paris-1.jpg
END:VEVENT
END:VCALENDAR