BEGIN:VCALENDAR
VERSION:2.0
PRODID:-//Disponibilité créative - Cours Feldenkrais à Paris - ECPv6.15.11//NONSGML v1.0//EN
CALSCALE:GREGORIAN
METHOD:PUBLISH
X-WR-CALNAME:Disponibilité créative - Cours Feldenkrais à Paris
X-ORIGINAL-URL:https://dc.koalad.com
X-WR-CALDESC:Évènements pour Disponibilité créative - Cours Feldenkrais à Paris
REFRESH-INTERVAL;VALUE=DURATION:PT1H
X-Robots-Tag:noindex
X-PUBLISHED-TTL:PT1H
BEGIN:VTIMEZONE
TZID:Europe/Paris
BEGIN:DAYLIGHT
TZOFFSETFROM:+0100
TZOFFSETTO:+0200
TZNAME:CEST
DTSTART:20180325T010000
END:DAYLIGHT
BEGIN:STANDARD
TZOFFSETFROM:+0200
TZOFFSETTO:+0100
TZNAME:CET
DTSTART:20181028T010000
END:STANDARD
BEGIN:DAYLIGHT
TZOFFSETFROM:+0100
TZOFFSETTO:+0200
TZNAME:CEST
DTSTART:20190331T010000
END:DAYLIGHT
BEGIN:STANDARD
TZOFFSETFROM:+0200
TZOFFSETTO:+0100
TZNAME:CET
DTSTART:20191027T010000
END:STANDARD
BEGIN:DAYLIGHT
TZOFFSETFROM:+0100
TZOFFSETTO:+0200
TZNAME:CEST
DTSTART:20200329T010000
END:DAYLIGHT
BEGIN:STANDARD
TZOFFSETFROM:+0200
TZOFFSETTO:+0100
TZNAME:CET
DTSTART:20201025T010000
END:STANDARD
END:VTIMEZONE
BEGIN:VEVENT
DTSTART;TZID=Europe/Paris:20190916T130000
DTEND;TZID=Europe/Paris:20190930T140000
DTSTAMP:20260421T102716
CREATED:20190916T070805Z
LAST-MODIFIED:20190919T092352Z
UID:17500-1568638800-1569852000@dc.koalad.com
SUMMARY:16 septembre 19 - Reprise des cours hebdomadaires Méthode Feldenkrais
DESCRIPTION:PRENEZ SOIN DE VOUS !\navec\nla Méthode Feldenkrais\n\nLes cours hebdomadaires débuteront cette année le lundi 16 septembre. \nIl y a encore la possibilité de s’inscrire à Charenton\, pour le cours du lundi 18h30 et aussi rue Monsieur le Prince\, Paris 6ème\, pour le cours du lundi à 9h30. \nEt cette année\, il y aura aussi des soirées thématiques mensuelles pour lesquelles vous pouvez déjà retenir les dates :les jeudi 10 octobre\,  14novembre\, 12 décembre\, etc… \nAinsi que des séances Feldenkrais et méditation du dimanche à 18h. Les prochaines dates sont les 13 octobre\, 24 novembre et 8 décembre. \net vous pouvez aussi bien sûr\, avoir envie d’une leçon individuelle! \nAu plaisir de vous retrouver très prochainement! \nContactez-nous pour\nnous demander des renseignements\,\nvous inscrire ou renouveler votre inscription.
URL:https://dc.koalad.com/event/2019-debut-des-cours-hebdomadaires-2-2/
ATTACH;FMTTYPE=image/jpeg:https://dc.koalad.com/wp-content/uploads/2019/09/librerer-epaules.jpg
END:VEVENT
END:VCALENDAR