BEGIN:VCALENDAR
VERSION:2.0
PRODID:-//Disponibilité créative - Cours Feldenkrais à Paris - ECPv6.15.11//NONSGML v1.0//EN
CALSCALE:GREGORIAN
METHOD:PUBLISH
X-WR-CALNAME:Disponibilité créative - Cours Feldenkrais à Paris
X-ORIGINAL-URL:https://dc.koalad.com
X-WR-CALDESC:Évènements pour Disponibilité créative - Cours Feldenkrais à Paris
REFRESH-INTERVAL;VALUE=DURATION:PT1H
X-Robots-Tag:noindex
X-PUBLISHED-TTL:PT1H
BEGIN:VTIMEZONE
TZID:Europe/Paris
BEGIN:DAYLIGHT
TZOFFSETFROM:+0100
TZOFFSETTO:+0200
TZNAME:CEST
DTSTART:20170326T010000
END:DAYLIGHT
BEGIN:STANDARD
TZOFFSETFROM:+0200
TZOFFSETTO:+0100
TZNAME:CET
DTSTART:20171029T010000
END:STANDARD
BEGIN:DAYLIGHT
TZOFFSETFROM:+0100
TZOFFSETTO:+0200
TZNAME:CEST
DTSTART:20180325T010000
END:DAYLIGHT
BEGIN:STANDARD
TZOFFSETFROM:+0200
TZOFFSETTO:+0100
TZNAME:CET
DTSTART:20181028T010000
END:STANDARD
BEGIN:DAYLIGHT
TZOFFSETFROM:+0100
TZOFFSETTO:+0200
TZNAME:CEST
DTSTART:20190331T010000
END:DAYLIGHT
BEGIN:STANDARD
TZOFFSETFROM:+0200
TZOFFSETTO:+0100
TZNAME:CET
DTSTART:20191027T010000
END:STANDARD
END:VTIMEZONE
BEGIN:VEVENT
DTSTART;VALUE=DATE:20180917
DTEND;VALUE=DATE:20180918
DTSTAMP:20260422T214121
CREATED:20180824T133921Z
LAST-MODIFIED:20180824T133921Z
UID:16435-1537142400-1537228799@dc.koalad.com
SUMMARY:17 septembre 2018 - Reprise des cours hebdomadaires
DESCRIPTION:PRENEZ SOIN DE VOUS ! \nLes cours hebdomadaires débuteront cette année le lundi lundi 17 septembre. \nIl y aura aussi des soirées thématiques mensuelles pour lesquelles vous pouvez déjà retenir les dates :\nles jeudi 11 octobre\, 15 novembre\, 13 décembre\, 17 janvier\, 14 février\, 21 mars\, 11 avril\, 16 mai\, 13 juin \nNous reprenons aussi les séances Feldenkrais et méditation du dimanche.\nLes dates seront précisées très prochainement \nContactez-nous pour\nnous demander des renseignements\,\nvous inscrire ou renouveler votre inscription.
URL:https://dc.koalad.com/event/2017-debut-des-cours-hebdomadaires-2/
ATTACH;FMTTYPE=image/jpeg:https://dc.koalad.com/wp-content/uploads/2016/06/librerer-epaules.jpg
END:VEVENT
END:VCALENDAR